BEGIN:VCALENDAR
VERSION:2.0
PRODID:-//aldridgegardens.com//NONSGML kigkonsult.se iCalcreator 2.30.10//
CALSCALE:GREGORIAN
METHOD:PUBLISH
UID:7ea25503-f0a2-4173-bb02-68ea46f50d8d
X-WR-CALDESC:<b>Summer Camps for the week of June 20-24</b>\n\nAmerican Gir
 ls in Aldridge Gardens Entering Grades 2 – 4\nAmerican Girls in Aldridge G
 ardens Entering Grades 5K – 2\nConstruction in Nature: Experimenting with 
 Materials to Build Structures in Nature Grades 2 – 4\n\n
X-WR-RELCALID:69a4a0943ea93558c624686af4a0bdfe
X-WR-TIMEZONE:America/Chicago
BEGIN:VTIMEZONE
TZID:America/Chicago
BEGIN:STANDARD
TZNAME:CST
DTSTART:20151101T020000
TZOFFSETFROM:-0500
TZOFFSETTO:-0600
RDATE:20161106T020000
RDATE:20171105T020000
END:STANDARD
BEGIN:DAYLIGHT
TZNAME:CDT
DTSTART:20160313T020000
TZOFFSETFROM:-0600
TZOFFSETTO:-0500
RDATE:20170312T020000
END:DAYLIGHT
END:VTIMEZONE
BEGIN:VEVENT
UID:f358ffdd-a84b-4a47-981e-ef2d9cf7af10
DTSTAMP:20260424T093342Z
DESCRIPTION:<b>Summer Camps for the week of June 20-24</b>\n\nAmerican Girl
 s in Aldridge Gardens Entering Grades 2 – 4\nAmerican Girls in Aldridge Ga
 rdens Entering Grades 5K – 2\nConstruction in Nature: Experimenting with M
 aterials to Build Structures in Nature Grades 2 – 4\n\n
DTSTART;TZID=America/Chicago:20160621T090000
DTEND;TZID=America/Chicago:20160621T120000
LOCATION:
SUMMARY:Summer Camps
END:VEVENT
END:VCALENDAR
