BEGIN:VCALENDAR
VERSION:2.0
PRODID:-//aldridgegardens.com//NONSGML kigkonsult.se iCalcreator 2.30.10//
CALSCALE:GREGORIAN
METHOD:PUBLISH
UID:14cb8d75-79d3-4501-a7d9-add7e1ba4adc
X-WR-CALDESC:<b>Summer Camps for the week of June 20-24</b>\n\nAmerican Gir
 ls in Aldridge Gardens Entering Grades 2 – 4\nAmerican Girls in Aldridge G
 ardens Entering Grades 5K – 2\nConstruction in Nature: Experimenting with 
 Materials to Build Structures in Nature Grades 2 – 4\n\n
X-WR-RELCALID:18fff1601648dbe56e7bdfbc172eeeb0
X-WR-TIMEZONE:America/Chicago
BEGIN:VTIMEZONE
TZID:America/Chicago
BEGIN:STANDARD
TZNAME:CST
DTSTART:20151101T020000
TZOFFSETFROM:-0500
TZOFFSETTO:-0600
RDATE:20161106T020000
RDATE:20171105T020000
END:STANDARD
BEGIN:DAYLIGHT
TZNAME:CDT
DTSTART:20160313T020000
TZOFFSETFROM:-0600
TZOFFSETTO:-0500
RDATE:20170312T020000
END:DAYLIGHT
END:VTIMEZONE
BEGIN:VEVENT
UID:b92c4ccb-368a-465b-b77e-57e29b379117
DTSTAMP:20260422T180815Z
DESCRIPTION:<b>Summer Camps for the week of June 20-24</b>\n\nAmerican Girl
 s in Aldridge Gardens Entering Grades 2 – 4\nAmerican Girls in Aldridge Ga
 rdens Entering Grades 5K – 2\nConstruction in Nature: Experimenting with M
 aterials to Build Structures in Nature Grades 2 – 4\n\n
DTSTART;TZID=America/Chicago:20160622T090000
DTEND;TZID=America/Chicago:20160622T120000
LOCATION:
SUMMARY:Summer Camps
END:VEVENT
END:VCALENDAR
