BEGIN:VCALENDAR
VERSION:2.0
PRODID:-//aldridgegardens.com//NONSGML kigkonsult.se iCalcreator 2.30.10//
CALSCALE:GREGORIAN
METHOD:PUBLISH
UID:a3088c1f-788c-4436-a89a-693ac184df10
X-WR-CALDESC:<b>Summer Camps for the week of June 20-24</b>\n\nAmerican Gir
 ls in Aldridge Gardens Entering Grades 2 – 4\nAmerican Girls in Aldridge G
 ardens Entering Grades 5K – 2\nConstruction in Nature: Experimenting with 
 Materials to Build Structures in Nature Grades 2 – 4\n\n
X-WR-RELCALID:bb01ff3f3e2466ee0e99e6a04d139d70
X-WR-TIMEZONE:America/Chicago
BEGIN:VTIMEZONE
TZID:America/Chicago
BEGIN:STANDARD
TZNAME:CST
DTSTART:20151101T020000
TZOFFSETFROM:-0500
TZOFFSETTO:-0600
RDATE:20161106T020000
RDATE:20171105T020000
END:STANDARD
BEGIN:DAYLIGHT
TZNAME:CDT
DTSTART:20160313T020000
TZOFFSETFROM:-0600
TZOFFSETTO:-0500
RDATE:20170312T020000
END:DAYLIGHT
END:VTIMEZONE
BEGIN:VEVENT
UID:685fe10a-cf0d-475a-bc39-70dcd9e76895
DTSTAMP:20260422T180151Z
DESCRIPTION:<b>Summer Camps for the week of June 20-24</b>\n\nAmerican Girl
 s in Aldridge Gardens Entering Grades 2 – 4\nAmerican Girls in Aldridge Ga
 rdens Entering Grades 5K – 2\nConstruction in Nature: Experimenting with M
 aterials to Build Structures in Nature Grades 2 – 4\n\n
DTSTART;TZID=America/Chicago:20160623T090000
DTEND;TZID=America/Chicago:20160623T120000
LOCATION:
SUMMARY:Summer Camps
END:VEVENT
END:VCALENDAR
