BEGIN:VCALENDAR
VERSION:2.0
PRODID:-//aldridgegardens.com//NONSGML kigkonsult.se iCalcreator 2.30.10//
CALSCALE:GREGORIAN
METHOD:PUBLISH
UID:0927aa1f-4530-4c48-8593-33facb771dc7
X-WR-CALDESC:<b>Summer Camps for the week of June 20-24</b>\n\nAmerican Gir
 ls in Aldridge Gardens Entering Grades 2 – 4\nAmerican Girls in Aldridge G
 ardens Entering Grades 5K – 2\nConstruction in Nature: Experimenting with 
 Materials to Build Structures in Nature Grades 2 – 4\n\n
X-WR-RELCALID:c75bf4e4e5ce974f4c65968543f313a5
X-WR-TIMEZONE:America/Chicago
BEGIN:VTIMEZONE
TZID:America/Chicago
BEGIN:STANDARD
TZNAME:CST
DTSTART:20151101T020000
TZOFFSETFROM:-0500
TZOFFSETTO:-0600
RDATE:20161106T020000
RDATE:20171105T020000
END:STANDARD
BEGIN:DAYLIGHT
TZNAME:CDT
DTSTART:20160313T020000
TZOFFSETFROM:-0600
TZOFFSETTO:-0500
RDATE:20170312T020000
END:DAYLIGHT
END:VTIMEZONE
BEGIN:VEVENT
UID:e248bb95-6de7-4acb-8b4e-5db21b216a7b
DTSTAMP:20260422T180018Z
DESCRIPTION:<b>Summer Camps for the week of June 20-24</b>\n\nAmerican Girl
 s in Aldridge Gardens Entering Grades 2 – 4\nAmerican Girls in Aldridge Ga
 rdens Entering Grades 5K – 2\nConstruction in Nature: Experimenting with M
 aterials to Build Structures in Nature Grades 2 – 4\n\n
DTSTART;TZID=America/Chicago:20160624T090000
DTEND;TZID=America/Chicago:20160624T120000
LOCATION:
SUMMARY:Summer Camps
END:VEVENT
END:VCALENDAR
