BEGIN:VCALENDAR
VERSION:2.0
PRODID:-//aldridgegardens.com//NONSGML kigkonsult.se iCalcreator 2.30.10//
CALSCALE:GREGORIAN
METHOD:PUBLISH
UID:78ea1cae-ef05-44a5-a1e0-18b650bdb389
X-WR-CALDESC:Fashioned after the old stone watering troughs of England\, th
 ese great containers can stand the freeze thaw cycle of most climates. Joi
 n us for a hands-on workshop to make your own hypertufa out of cement\, pe
 rlite\, and peat moss. We will also discuss planting options. Make your hy
 pertufa on June 25.  Let it cure for a week\, and pick up the following we
 ekend.\n\nInstructor: Harold Deason\, Jefferson County Master Gardener\n\n
 Cost: $46 Members/$55 Non-Members (includes all materials)\n\nClass Size: 
 Limited to 12 participants\n\nRain date:  Saturday\, July 16
X-WR-RELCALID:1c62b9174340bc95c0746c81e7895b0a
X-WR-TIMEZONE:America/Chicago
BEGIN:VTIMEZONE
TZID:America/Chicago
BEGIN:STANDARD
TZNAME:CST
DTSTART:20151101T020000
TZOFFSETFROM:-0500
TZOFFSETTO:-0600
RDATE:20161106T020000
RDATE:20171105T020000
END:STANDARD
BEGIN:DAYLIGHT
TZNAME:CDT
DTSTART:20160313T020000
TZOFFSETFROM:-0600
TZOFFSETTO:-0500
RDATE:20170312T020000
END:DAYLIGHT
END:VTIMEZONE
BEGIN:VEVENT
UID:51a519ff-8336-48c1-8fc1-87550182b505
DTSTAMP:20260422T175711Z
DESCRIPTION:Fashioned after the old stone watering troughs of England\, the
 se great containers can stand the freeze thaw cycle of most climates. Join
  us for a hands-on workshop to make your own hypertufa out of cement\, per
 lite\, and peat moss. We will also discuss planting options. Make your hyp
 ertufa on June 25.  Let it cure for a week\, and pick up the following wee
 kend.\n\nInstructor: Harold Deason\, Jefferson County Master Gardener\n\nC
 ost: $46 Members/$55 Non-Members (includes all materials)\n\nClass Size: L
 imited to 12 participants\n\nRain date:  Saturday\, July 16
DTSTART;TZID=America/Chicago:20160625T083000
DTEND;TZID=America/Chicago:20160625T113000
LOCATION:Aldridge Gardens
SUMMARY:Hypertufa Workshop
END:VEVENT
END:VCALENDAR
