BEGIN:VCALENDAR
VERSION:2.0
PRODID:-//aldridgegardens.com//NONSGML kigkonsult.se iCalcreator 2.30.10//
CALSCALE:GREGORIAN
METHOD:PUBLISH
UID:bd44722e-ae7d-45d6-afd5-41e3c8d4fada
X-WR-CALDESC:<b>Summer Camps for the week of June 27 - July 1</b>\n\nAmeric
 an Girls in Aldridge Gardens Entering Grades 2 – 4\nAmerican Girls in Aldr
 idge Gardens Entering Grades 5K – 2\nConstruction in Nature: Experimenting
  with Materials to Build Structures in Nature Grades 5K – 2
X-WR-RELCALID:840e1e5c224b255d4cf780b87d310f13
X-WR-TIMEZONE:America/Chicago
BEGIN:VTIMEZONE
TZID:America/Chicago
BEGIN:STANDARD
TZNAME:CST
DTSTART:20151101T020000
TZOFFSETFROM:-0500
TZOFFSETTO:-0600
RDATE:20161106T020000
RDATE:20171105T020000
END:STANDARD
BEGIN:DAYLIGHT
TZNAME:CDT
DTSTART:20160313T020000
TZOFFSETFROM:-0600
TZOFFSETTO:-0500
RDATE:20170312T020000
END:DAYLIGHT
END:VTIMEZONE
BEGIN:VEVENT
UID:2a34c246-6622-4c25-85f9-7643b930e593
DTSTAMP:20260422T180351Z
DESCRIPTION:<b>Summer Camps for the week of June 27 - July 1</b>\n\nAmerica
 n Girls in Aldridge Gardens Entering Grades 2 – 4\nAmerican Girls in Aldri
 dge Gardens Entering Grades 5K – 2\nConstruction in Nature: Experimenting 
 with Materials to Build Structures in Nature Grades 5K – 2
DTSTART;TZID=America/Chicago:20160628T090000
DTEND;TZID=America/Chicago:20160628T120000
LOCATION:
SUMMARY:Summer Camps
END:VEVENT
END:VCALENDAR
