BEGIN:VCALENDAR
VERSION:2.0
PRODID:-//aldridgegardens.com//NONSGML kigkonsult.se iCalcreator 2.30.10//
CALSCALE:GREGORIAN
METHOD:PUBLISH
UID:4f0752d2-6c47-4e40-84e6-226c4f27cca9
X-WR-CALDESC:<b>Summer Camps for the week of June 27 - July 1</b>\n\nAmeric
 an Girls in Aldridge Gardens Entering Grades 2 – 4\nAmerican Girls in Aldr
 idge Gardens Entering Grades 5K – 2\nConstruction in Nature: Experimenting
  with Materials to Build Structures in Nature Grades 5K – 2
X-WR-RELCALID:bd711cbf855d7cdb263357d23543c489
X-WR-TIMEZONE:America/Chicago
BEGIN:VTIMEZONE
TZID:America/Chicago
BEGIN:STANDARD
TZNAME:CST
DTSTART:20151101T020000
TZOFFSETFROM:-0500
TZOFFSETTO:-0600
RDATE:20161106T020000
RDATE:20171105T020000
END:STANDARD
BEGIN:DAYLIGHT
TZNAME:CDT
DTSTART:20160313T020000
TZOFFSETFROM:-0600
TZOFFSETTO:-0500
RDATE:20170312T020000
END:DAYLIGHT
END:VTIMEZONE
BEGIN:VEVENT
UID:33929ee3-dfb9-41e5-96b3-1635998733bf
DTSTAMP:20260422T180315Z
DESCRIPTION:<b>Summer Camps for the week of June 27 - July 1</b>\n\nAmerica
 n Girls in Aldridge Gardens Entering Grades 2 – 4\nAmerican Girls in Aldri
 dge Gardens Entering Grades 5K – 2\nConstruction in Nature: Experimenting 
 with Materials to Build Structures in Nature Grades 5K – 2
DTSTART;TZID=America/Chicago:20160630T090000
DTEND;TZID=America/Chicago:20160630T120000
LOCATION:
SUMMARY:Summer Camps
END:VEVENT
END:VCALENDAR
