BEGIN:VCALENDAR
VERSION:2.0
PRODID:-//aldridgegardens.com//NONSGML kigkonsult.se iCalcreator 2.30.10//
CALSCALE:GREGORIAN
METHOD:PUBLISH
UID:a582bb5b-4e9b-47b7-a78f-2b249dd423e5
X-WR-CALDESC:Please join us as we welcome Karen Utz to Aldridge Gardens. Pr
 opagator level members will enjoy their monthly wine reception\, beginning
  at 5 p.m.\, while mixing and mingling with our special guest. \n\nUtz is 
 the curator and historian for Sloss Furnaces Historic Landmark in Birmingh
 am and an adjunct instructor for the UAB Department of History. She is als
 o the author of <i>Iron and Steel: a Guide to Birmingham Area Industrial H
 eritage Sites</i> and provided the text for <i>Sloss Furnaces (Images of A
 merica)</i>. Don't miss your chance to hear Karen in person\, as she tells
  us all about the history of Sloss Furnaces and the part she is playing in
  its present and future.\n\nHear it\, direct from the source\, at Aldridge
  Gardens on July 14th\, from 5 to 7:00 p.m.\n
X-WR-RELCALID:116e8a5e13f435d62b8450bb98caf080
X-WR-TIMEZONE:America/Chicago
BEGIN:VTIMEZONE
TZID:America/Chicago
BEGIN:STANDARD
TZNAME:CST
DTSTART:20151101T020000
TZOFFSETFROM:-0500
TZOFFSETTO:-0600
RDATE:20161106T020000
RDATE:20171105T020000
END:STANDARD
BEGIN:DAYLIGHT
TZNAME:CDT
DTSTART:20160313T020000
TZOFFSETFROM:-0600
TZOFFSETTO:-0500
RDATE:20170312T020000
END:DAYLIGHT
END:VTIMEZONE
BEGIN:VEVENT
UID:bdfce3bc-4534-4c0c-85c9-2b138d492815
DTSTAMP:20260422T163753Z
DESCRIPTION:Please join us as we welcome Karen Utz to Aldridge Gardens. Pro
 pagator level members will enjoy their monthly wine reception\, beginning 
 at 5 p.m.\, while mixing and mingling with our special guest. \n\nUtz is t
 he curator and historian for Sloss Furnaces Historic Landmark in Birmingha
 m and an adjunct instructor for the UAB Department of History. She is also
  the author of <i>Iron and Steel: a Guide to Birmingham Area Industrial He
 ritage Sites</i> and provided the text for <i>Sloss Furnaces (Images of Am
 erica)</i>. Don't miss your chance to hear Karen in person\, as she tells 
 us all about the history of Sloss Furnaces and the part she is playing in 
 its present and future.\n\nHear it\, direct from the source\, at Aldridge 
 Gardens on July 14th\, from 5 to 7:00 p.m.\n
DTSTART;TZID=America/Chicago:20160714T170000
DTEND;TZID=America/Chicago:20160714T190000
LOCATION:Eddie and Kay Aldridge Arts & Historical Collections Museum
SUMMARY:Propagators Reception: Karen Utz
END:VEVENT
END:VCALENDAR
