BEGIN:VCALENDAR
VERSION:2.0
PRODID:-//aldridgegardens.com//NONSGML kigkonsult.se iCalcreator 2.30.10//
CALSCALE:GREGORIAN
METHOD:PUBLISH
UID:0b8bd275-8598-40d1-a110-0500277fd627
X-WR-CALDESC:Come join us and take advantage of this rare opportunity to se
 e and hear about the transformation of the backyard of Hoover resident and
  Aldridge Gardens member\, Sid McLean.  Sid has offered to share a look at
  his property to those who are interested in the steps he took to make his
  backyard look like a glimpse out of Southern Living!  He added a pool\, a
 n outdoor kitchen\, and striking landscape plantings.  Feel free to bring 
 your own bottle of wine or beverage and enjoy while Sid gives us a tour an
 d tells about how he changed a yard full of only trees to his finished pro
 duct.\n\nTour and Talk:  Sid McLean\, DIY 'Backyard Landscaper'\n\nCost: $
 15 Members/$20 Non-Members (includes all materials)\n\nClass Size: Limited
  to 20 participants\n\nRain date:  Thursday\, July 28
X-WR-RELCALID:d9ec23da0bb175f04fa51861696afc3b
X-WR-TIMEZONE:America/Chicago
BEGIN:VTIMEZONE
TZID:America/Chicago
BEGIN:STANDARD
TZNAME:CST
DTSTART:20151101T020000
TZOFFSETFROM:-0500
TZOFFSETTO:-0600
RDATE:20161106T020000
RDATE:20171105T020000
END:STANDARD
BEGIN:DAYLIGHT
TZNAME:CDT
DTSTART:20160313T020000
TZOFFSETFROM:-0600
TZOFFSETTO:-0500
RDATE:20170312T020000
END:DAYLIGHT
END:VTIMEZONE
BEGIN:VEVENT
UID:5f8a8c03-0fdd-49f4-8c49-000fc60e9e73
DTSTAMP:20260422T161330Z
DESCRIPTION:Come join us and take advantage of this rare opportunity to see
  and hear about the transformation of the backyard of Hoover resident and 
 Aldridge Gardens member\, Sid McLean.  Sid has offered to share a look at 
 his property to those who are interested in the steps he took to make his 
 backyard look like a glimpse out of Southern Living!  He added a pool\, an
  outdoor kitchen\, and striking landscape plantings.  Feel free to bring y
 our own bottle of wine or beverage and enjoy while Sid gives us a tour and
  tells about how he changed a yard full of only trees to his finished prod
 uct.\n\nTour and Talk:  Sid McLean\, DIY 'Backyard Landscaper'\n\nCost: $1
 5 Members/$20 Non-Members (includes all materials)\n\nClass Size: Limited 
 to 20 participants\n\nRain date:  Thursday\, July 28
DTSTART;TZID=America/Chicago:20160721T180000
DTEND;TZID=America/Chicago:20160721T200000
LOCATION:Directions furnished upon registration.
SUMMARY:Landscape Your Own Backyard Tour and Talk
END:VEVENT
END:VCALENDAR
