BEGIN:VCALENDAR
VERSION:2.0
PRODID:-//aldridgegardens.com//NONSGML kigkonsult.se iCalcreator 2.30.10//
CALSCALE:GREGORIAN
METHOD:PUBLISH
UID:13907fc5-5d51-40c8-8a9f-837175b899b5
X-WR-CALDESC:Saturday mornings were made for this!\n\nYou can't go wrong wi
 th fresh air and a little exercise while on a guided tour of the Gardens. 
 Join Dr. Richard and Patricia Ryel for a walk on our grounds to catch a gl
 impse of the beautiful birds that are migrating through the area. This mon
 thly members-only event is free\, but we do ask that you kindly RSVP.  \n
 \nThe remaining dates of this year's currently scheduled bird walks are:\n
 August 20\nSeptember 17\nOctober 15\nNovember 19
X-WR-RELCALID:4e962066b2adfe3f1aa54c6421adde7d
X-WR-TIMEZONE:America/Chicago
BEGIN:VTIMEZONE
TZID:America/Chicago
BEGIN:STANDARD
TZNAME:CST
DTSTART:20151101T020000
TZOFFSETFROM:-0500
TZOFFSETTO:-0600
RDATE:20161106T020000
RDATE:20171105T020000
END:STANDARD
BEGIN:DAYLIGHT
TZNAME:CDT
DTSTART:20160313T020000
TZOFFSETFROM:-0600
TZOFFSETTO:-0500
RDATE:20170312T020000
END:DAYLIGHT
END:VTIMEZONE
BEGIN:VEVENT
UID:2e8afd03-ca84-4d9f-9e8e-7bbb992cad95
DTSTAMP:20260422T145939Z
DESCRIPTION:Saturday mornings were made for this!\n\nYou can't go wrong wit
 h fresh air and a little exercise while on a guided tour of the Gardens. J
 oin Dr. Richard and Patricia Ryel for a walk on our grounds to catch a gli
 mpse of the beautiful birds that are migrating through the area. This mont
 hly members-only event is free\, but we do ask that you kindly RSVP.  \n\n
 The remaining dates of this year's currently scheduled bird walks are:\nAu
 gust 20\nSeptember 17\nOctober 15\nNovember 19
DTSTART;TZID=America/Chicago:20160820T080000
DTEND;TZID=America/Chicago:20160820T100000
LOCATION:
SUMMARY:Members Only Guided Bird Walk
END:VEVENT
END:VCALENDAR
