BEGIN:VCALENDAR
VERSION:2.0
PRODID:-//aldridgegardens.com//NONSGML kigkonsult.se iCalcreator 2.30.10//
CALSCALE:GREGORIAN
METHOD:PUBLISH
UID:b2d45c81-9e20-481f-a997-0cb139be8de1
X-WR-CALDESC:“As We and Our Gardens Age'\nGardens probably look their best 
 in years three through ten. What happens after that? Jefferson County Mast
 er Gardener instructor Mike Rushing will discuss thoughtful approaches to 
 dealing with an out-of-control\, overgrown garden that can result as both 
 the garden and gardener age.\n\nALABAMA HYDRANGEA SOCIETY\nInterested in l
 earning more about Hydrangeas and other related gardening topics? We invit
 e you to visit and join the Alabama Hydrangea Society. Meetings take place
  five times a year at Aldridge Gardens (3530 Lorna Road\, Hoover) at 1:00 
 p.m. on the 4th Wednesday of these months: January\, March\, June\, August
 \, and October. Membership is $15 per year for an individual or $25 per co
 uple. Visitors are always welcome to attend.\n\nAldridge Gardens is the pe
 rfect setting to inspire one’s learning more about the various types of Hy
 drangeas.\n\nThe next Alabama Hydrangea Society meeting will be on October
  26.
X-WR-RELCALID:8c64a4a3079b90a7b86b5a812f8432b8
X-WR-TIMEZONE:America/Chicago
BEGIN:VTIMEZONE
TZID:America/Chicago
BEGIN:STANDARD
TZNAME:CST
DTSTART:20151101T020000
TZOFFSETFROM:-0500
TZOFFSETTO:-0600
RDATE:20161106T020000
RDATE:20171105T020000
END:STANDARD
BEGIN:DAYLIGHT
TZNAME:CDT
DTSTART:20160313T020000
TZOFFSETFROM:-0600
TZOFFSETTO:-0500
RDATE:20170312T020000
END:DAYLIGHT
END:VTIMEZONE
BEGIN:VEVENT
UID:a9e8d4fb-d76d-4196-bc4e-f6062e5f97d3
DTSTAMP:20260422T143852Z
DESCRIPTION:“As We and Our Gardens Age'\nGardens probably look their best i
 n years three through ten. What happens after that? Jefferson County Maste
 r Gardener instructor Mike Rushing will discuss thoughtful approaches to d
 ealing with an out-of-control\, overgrown garden that can result as both t
 he garden and gardener age.\n\nALABAMA HYDRANGEA SOCIETY\nInterested in le
 arning more about Hydrangeas and other related gardening topics? We invite
  you to visit and join the Alabama Hydrangea Society. Meetings take place 
 five times a year at Aldridge Gardens (3530 Lorna Road\, Hoover) at 1:00 p
 .m. on the 4th Wednesday of these months: January\, March\, June\, August\
 , and October. Membership is $15 per year for an individual or $25 per cou
 ple. Visitors are always welcome to attend.\n\nAldridge Gardens is the per
 fect setting to inspire one’s learning more about the various types of Hyd
 rangeas.\n\nThe next Alabama Hydrangea Society meeting will be on October 
 26.
DTSTART;TZID=America/Chicago:20160824T130000
DTEND;TZID=America/Chicago:20160824T140000
LOCATION:Aldridge House at the Gardens
SUMMARY:Alabama Hydrangea Society Meeting
END:VEVENT
END:VCALENDAR
