BEGIN:VCALENDAR
VERSION:2.0
PRODID:-//aldridgegardens.com//NONSGML kigkonsult.se iCalcreator 2.30.10//
CALSCALE:GREGORIAN
METHOD:PUBLISH
UID:60c70ce1-d219-4b74-8808-882de96e89c3
X-WR-CALDESC:Saturday 9 a.m. to 5 p.m. \nand Sunday 10 a.m. to 4 p.m.\n\nSt
 roll through the Gardens and see the works of some of the best artists in 
 the country\, and\, of course\, shop! A multitude of artisans will compete
  for category and best of show awards in this juried open-air show that fe
 atures only Alabama artists. We'll have woodworking\, jewelry\, glass\, sc
 ulpture\, painting\, watercolor\, photography\, drawing\, clay\, printmaki
 ng\, and mixed media. \n\nFood will be available for purchase from vendors
  at the event. \n\n<i>Your $5 per person entry fee supports the arts at Al
 dridge Gardens - visitors younger than 16 get in free. \n\nOff-site parkin
 g with shuttles will be available at the Bed Bath & Beyond parking area on
  Lorna Road. The shuttles will run from 30 minutes before the show begins 
 until 30 minutes after the show ends on Saturday and Sunday.</i>\n\nThis y
 ear's event is sponsored in part by the Hoover Arts Alliance.\n\n<b>Intere
 sted Artists! Download our application form below.</b> \n
X-WR-RELCALID:1adbdbef6cea9522e88f974c77dad8ed
X-WR-TIMEZONE:America/Chicago
BEGIN:VTIMEZONE
TZID:America/Chicago
BEGIN:STANDARD
TZNAME:CST
DTSTART:20151101T020000
TZOFFSETFROM:-0500
TZOFFSETTO:-0600
RDATE:20161106T020000
RDATE:20171105T020000
END:STANDARD
BEGIN:DAYLIGHT
TZNAME:CDT
DTSTART:20160313T020000
TZOFFSETFROM:-0600
TZOFFSETTO:-0500
RDATE:20170312T020000
RDATE:20180311T020000
END:DAYLIGHT
END:VTIMEZONE
BEGIN:VEVENT
UID:99ccae64-636d-44f6-b421-c416e6a79c20
DTSTAMP:20260422T133259Z
DESCRIPTION:Saturday 9 a.m. to 5 p.m. \nand Sunday 10 a.m. to 4 p.m.\n\nStr
 oll through the Gardens and see the works of some of the best artists in t
 he country\, and\, of course\, shop! A multitude of artisans will compete 
 for category and best of show awards in this juried open-air show that fea
 tures only Alabama artists. We'll have woodworking\, jewelry\, glass\, scu
 lpture\, painting\, watercolor\, photography\, drawing\, clay\, printmakin
 g\, and mixed media. \n\nFood will be available for purchase from vendors 
 at the event. \n\n<i>Your $5 per person entry fee supports the arts at Ald
 ridge Gardens - visitors younger than 16 get in free. \n\nOff-site parking
  with shuttles will be available at the Bed Bath & Beyond parking area on 
 Lorna Road. The shuttles will run from 30 minutes before the show begins u
 ntil 30 minutes after the show ends on Saturday and Sunday.</i>\n\nThis ye
 ar's event is sponsored in part by the Hoover Arts Alliance.\n\n<b>Interes
 ted Artists! Download our application form below.</b> \n
DTSTART;TZID=America/Chicago:20160924T090000
DTEND;TZID=America/Chicago:20160925T160000
LOCATION:
SUMMARY:Art in the Gardens
END:VEVENT
END:VCALENDAR
