BEGIN:VCALENDAR
VERSION:2.0
PRODID:-//aldridgegardens.com//NONSGML kigkonsult.se iCalcreator 2.30.10//
CALSCALE:GREGORIAN
METHOD:PUBLISH
UID:41d22702-8bb2-4134-80f2-bfe16329a3e7
X-WR-CALDESC:Free Member Class\nYoga in the Gardens with Star\n\n<b>Wednesd
 ay\, September 28\, 9:30 – 10:45 a.m.</b>\n\nHave you always wanted to try
  a yoga class?  As a bonus with your Aldridge Gardens membership\, you are
  invited to take this class with a certified Hatha Yoga instructor. Star R
 osser’s classes are gentle\, slow\, and geared towards the 40+ age group -
 - but they are also suitable for anyone who wants a slower paced yoga clas
 s with lots of instruction. Her classes promote positive body image and ar
 e filled with self-care\, love\, and a little laughter. Plan to wear cloth
 es that are comfortable to move in. Register below and come explore yoga w
 ith Star.\n\n<b>Star Rosser\, Certified Yoga Instructor</b>\nNo charge for
  Gardens Members.  \nBring a mat\, towel\, and water.\n
X-WR-RELCALID:4a51a46066eeb2d2b58e7a24c251fbd5
X-WR-TIMEZONE:America/Chicago
BEGIN:VTIMEZONE
TZID:America/Chicago
BEGIN:STANDARD
TZNAME:CST
DTSTART:20151101T020000
TZOFFSETFROM:-0500
TZOFFSETTO:-0600
RDATE:20161106T020000
RDATE:20171105T020000
END:STANDARD
BEGIN:DAYLIGHT
TZNAME:CDT
DTSTART:20160313T020000
TZOFFSETFROM:-0600
TZOFFSETTO:-0500
RDATE:20170312T020000
RDATE:20180311T020000
END:DAYLIGHT
END:VTIMEZONE
BEGIN:VEVENT
UID:550915ec-f96e-413a-86ba-c2f9893722f6
DTSTAMP:20260422T131128Z
DESCRIPTION:Free Member Class\nYoga in the Gardens with Star\n\n<b>Wednesda
 y\, September 28\, 9:30 – 10:45 a.m.</b>\n\nHave you always wanted to try 
 a yoga class?  As a bonus with your Aldridge Gardens membership\, you are 
 invited to take this class with a certified Hatha Yoga instructor. Star Ro
 sser’s classes are gentle\, slow\, and geared towards the 40+ age group --
  but they are also suitable for anyone who wants a slower paced yoga class
  with lots of instruction. Her classes promote positive body image and are
  filled with self-care\, love\, and a little laughter. Plan to wear clothe
 s that are comfortable to move in. Register below and come explore yoga wi
 th Star.\n\n<b>Star Rosser\, Certified Yoga Instructor</b>\nNo charge for 
 Gardens Members.  \nBring a mat\, towel\, and water.\n
DTSTART;TZID=America/Chicago:20160928T093000
DTEND;TZID=America/Chicago:20160928T104500
LOCATION:The patio near Roots Garden and Gift Shop
SUMMARY:Yoga in the Gardens with Star
END:VEVENT
END:VCALENDAR
