BEGIN:VCALENDAR
VERSION:2.0
PRODID:-//aldridgegardens.com//NONSGML kigkonsult.se iCalcreator 2.30.10//
CALSCALE:GREGORIAN
METHOD:PUBLISH
UID:445c5d64-b84a-4396-b5e5-7f3464cc21b7
X-WR-CALDESC:Taste of Hoover celebrates the variety of culinary styles foun
 d throughout the city. \n \nEnjoy an autumn evening with us strolling thro
 ugh the Gardens and sampling delicious dishes from some of Hoover's best r
 estaurants\, caterers\, and more. Taste international wines and local beer
 s while listening to live entertainment. \n\nTickets are $30 members/$40 n
 on-members\nOnly a limited number of tickets will be available. In fact\, 
 our 2015 event sold out.\n\n<i>Please note this is a special event and we 
 will not offer free admission to the Gardens during Taste of Hoover.</i> 
 \n\nHere's a list of Hoover restaurants and Aldridge Gardens' preferred ve
 ndors who will be serving scrumptious samples from their menus. (Updated 9
 -27-16) More should be added soon:\n\n<b>Restaurants</b>\nBare Naked Noodl
 es\nThe Boot - Brook Highland\nThe Cajun Cleaver\nCapers on Park Avenue\nC
 hicken Salad Chick\nCowboy Chicken\nDale's Southern Grill\nEdgars Bakery\n
 Emily's Heirloom Pound Cakes\nFirebirds\nGalleria Woods Retirement Communi
 ty\nGigi’s Cupcakes\nirelish Café\nJake's Soul Food Café\nJoe's Crab Shack
 \nJuice Bar Chase Lake\nMerk's Tavern\nNewks Eatery\nPollo Lucas\nSalvator
 e’s Pizza & Pasta\nSprouts\nSwamp Monster BBQ\nTaziki's\nThat's My Dawg\nT
 ortugas\nThe Whole Scoop\n\n<b>Caterers</b>\nSavioe Catering\nFive Star Ev
 ent Catering\nThe Happy Catering Co.\nYellow Bicycle\n\n<b>More</b>\nJeff 
 State Culinary & Hospitality Institute \nCoca-Cola Bottling Co. United Inc
 \nInternational Wines & Craft Beer\nRoyal Cup Coffee\nLighting the Way\n\n
 <b>Entertainment</b>\nJacob Edwards\n\nInterested vendors\, please contact
  Tynette Lynch at 205.682.8019 or tlynch@aldridgegardens.com. Our <b>vendo
 r application form</b> is available for download under 'related links' at 
 the bottom of this page. \n\nTaste of Hoover is sponsored by the <i>Hoover
  Sun</i>. \n\n<b>Online ticket sales closed at 2:00 p.m. <br>Remaining tic
 kets will be available at the gate while supplies last. </b>\n
X-WR-RELCALID:2943a62bb61ea2263d700eaf6883cb88
X-WR-TIMEZONE:America/Chicago
BEGIN:VTIMEZONE
TZID:America/Chicago
BEGIN:STANDARD
TZNAME:CST
DTSTART:20151101T020000
TZOFFSETFROM:-0500
TZOFFSETTO:-0600
RDATE:20161106T020000
RDATE:20171105T020000
END:STANDARD
BEGIN:DAYLIGHT
TZNAME:CDT
DTSTART:20160313T020000
TZOFFSETFROM:-0600
TZOFFSETTO:-0500
RDATE:20170312T020000
RDATE:20180311T020000
END:DAYLIGHT
END:VTIMEZONE
BEGIN:VEVENT
UID:870a98b4-e133-42a1-9fb2-36e546f2ff7b
DTSTAMP:20260419T161114Z
DESCRIPTION:Taste of Hoover celebrates the variety of culinary styles found
  throughout the city. \n \nEnjoy an autumn evening with us strolling throu
 gh the Gardens and sampling delicious dishes from some of Hoover's best re
 staurants\, caterers\, and more. Taste international wines and local beers
  while listening to live entertainment. \n\nTickets are $30 members/$40 no
 n-members\nOnly a limited number of tickets will be available. In fact\, o
 ur 2015 event sold out.\n\n<i>Please note this is a special event and we w
 ill not offer free admission to the Gardens during Taste of Hoover.</i> \n
 \nHere's a list of Hoover restaurants and Aldridge Gardens' preferred vend
 ors who will be serving scrumptious samples from their menus. (Updated 9-2
 7-16) More should be added soon:\n\n<b>Restaurants</b>\nBare Naked Noodles
 \nThe Boot - Brook Highland\nThe Cajun Cleaver\nCapers on Park Avenue\nChi
 cken Salad Chick\nCowboy Chicken\nDale's Southern Grill\nEdgars Bakery\nEm
 ily's Heirloom Pound Cakes\nFirebirds\nGalleria Woods Retirement Community
 \nGigi’s Cupcakes\nirelish Café\nJake's Soul Food Café\nJoe's Crab Shack\n
 Juice Bar Chase Lake\nMerk's Tavern\nNewks Eatery\nPollo Lucas\nSalvatore’
 s Pizza & Pasta\nSprouts\nSwamp Monster BBQ\nTaziki's\nThat's My Dawg\nTor
 tugas\nThe Whole Scoop\n\n<b>Caterers</b>\nSavioe Catering\nFive Star Even
 t Catering\nThe Happy Catering Co.\nYellow Bicycle\n\n<b>More</b>\nJeff St
 ate Culinary & Hospitality Institute \nCoca-Cola Bottling Co. United Inc\n
 International Wines & Craft Beer\nRoyal Cup Coffee\nLighting the Way\n\n<b
 >Entertainment</b>\nJacob Edwards\n\nInterested vendors\, please contact T
 ynette Lynch at 205.682.8019 or tlynch@aldridgegardens.com. Our <b>vendor 
 application form</b> is available for download under 'related links' at th
 e bottom of this page. \n\nTaste of Hoover is sponsored by the <i>Hoover S
 un</i>. \n\n<b>Online ticket sales closed at 2:00 p.m. <br>Remaining ticke
 ts will be available at the gate while supplies last. </b>\n
DTSTART;TZID=America/Chicago:20161006T170000
DTEND;TZID=America/Chicago:20161006T200000
LOCATION:
SUMMARY:Taste of Hoover
END:VEVENT
END:VCALENDAR
