BEGIN:VCALENDAR
VERSION:2.0
PRODID:-//aldridgegardens.com//NONSGML kigkonsult.se iCalcreator 2.30.10//
CALSCALE:GREGORIAN
METHOD:PUBLISH
UID:3a4a20af-8b53-4634-bdd4-049036556c97
X-WR-CALDESC:Saturday mornings were made for this!\n\nYou can't go wrong wi
 th fresh air and a little exercise while on a guided tour of the Gardens. 
 Join Dr. Richard and Patricia Ryel for a walk on our grounds to catch a gl
 impse of the beautiful birds that are migrating through the area. This mon
 thly members-only event is free\, but we do ask that you kindly RSVP.  \n
 \nThe remaining dates of this year's currently scheduled bird walks are:\n
 October 15\nNovember 19
X-WR-RELCALID:f9a62c286dfa21162191f8d5a876ccb2
X-WR-TIMEZONE:America/Chicago
BEGIN:VTIMEZONE
TZID:America/Chicago
BEGIN:STANDARD
TZNAME:CST
DTSTART:20151101T020000
TZOFFSETFROM:-0500
TZOFFSETTO:-0600
RDATE:20161106T020000
RDATE:20171105T020000
END:STANDARD
BEGIN:DAYLIGHT
TZNAME:CDT
DTSTART:20160313T020000
TZOFFSETFROM:-0600
TZOFFSETTO:-0500
RDATE:20170312T020000
RDATE:20180311T020000
END:DAYLIGHT
END:VTIMEZONE
BEGIN:VEVENT
UID:7f6da818-3f05-4453-819e-21652d376b4c
DTSTAMP:20260422T113543Z
DESCRIPTION:Saturday mornings were made for this!\n\nYou can't go wrong wit
 h fresh air and a little exercise while on a guided tour of the Gardens. J
 oin Dr. Richard and Patricia Ryel for a walk on our grounds to catch a gli
 mpse of the beautiful birds that are migrating through the area. This mont
 hly members-only event is free\, but we do ask that you kindly RSVP.  \n\n
 The remaining dates of this year's currently scheduled bird walks are:\nOc
 tober 15\nNovember 19
DTSTART;TZID=America/Chicago:20161015T080000
DTEND;TZID=America/Chicago:20161015T100000
LOCATION:
SUMMARY:Members Only Guided Bird Walk
END:VEVENT
END:VCALENDAR
