BEGIN:VCALENDAR
VERSION:2.0
PRODID:-//aldridgegardens.com//NONSGML kigkonsult.se iCalcreator 2.30.10//
CALSCALE:GREGORIAN
METHOD:PUBLISH
UID:7972bf64-f6fa-425e-993a-01cb3a96ed6c
X-WR-CALDESC:The Hoover Cup is the annual fundraising golf tournament hoste
 d by the Hoover Parks and Recreation Foundation. 2013 was the inaugural ye
 ar and we exceeded our goal by raising $10\,000.00. We are hoping for even
  more success this year! \n\nThe purpose of this annual event is to suppor
 t the Foundation’s mission while supplementing the funding of the newest H
 oover recreation projects. <b>Most recently funds were used to purchase an
  arbor in the Aldridge Gardens Veterans Memorial project.</b> The project 
 is on course to be completed by November of 2016. \n\nThe Hoover Parks and
  Recreation Foundation‘s mission is to promote\, assist\, strengthen and a
 dvance the quality and availability of recreation programs and facilities 
 for the residents of the City of Hoover. This is just one of many events w
 e host to work on our mission. \n\nWe invite you to get involved with the 
 2016 Hoover Cup. We also encourage you to learn more about the HPAR Founda
 tion and discover how you can be a part of strengthening the quality of li
 fe for all residents of the City of Hoover.\n\n<b>The tournament registrat
 ion form is available for download as a PDF at the bottom of this page.</b
 >
X-WR-RELCALID:461346d21053218210c6ef004231deca
X-WR-TIMEZONE:America/Chicago
BEGIN:VTIMEZONE
TZID:America/Chicago
BEGIN:STANDARD
TZNAME:CST
DTSTART:20151101T020000
TZOFFSETFROM:-0500
TZOFFSETTO:-0600
RDATE:20161106T020000
RDATE:20171105T020000
END:STANDARD
BEGIN:DAYLIGHT
TZNAME:CDT
DTSTART:20160313T020000
TZOFFSETFROM:-0600
TZOFFSETTO:-0500
RDATE:20170312T020000
RDATE:20180311T020000
END:DAYLIGHT
END:VTIMEZONE
BEGIN:VEVENT
UID:28cdd60a-4eb9-4d4f-b386-e5716bf879a4
DTSTAMP:20260422T113803Z
DESCRIPTION:The Hoover Cup is the annual fundraising golf tournament hosted
  by the Hoover Parks and Recreation Foundation. 2013 was the inaugural yea
 r and we exceeded our goal by raising $10\,000.00. We are hoping for even 
 more success this year! \n\nThe purpose of this annual event is to support
  the Foundation’s mission while supplementing the funding of the newest Ho
 over recreation projects. <b>Most recently funds were used to purchase an 
 arbor in the Aldridge Gardens Veterans Memorial project.</b> The project i
 s on course to be completed by November of 2016. \n\nThe Hoover Parks and 
 Recreation Foundation‘s mission is to promote\, assist\, strengthen and ad
 vance the quality and availability of recreation programs and facilities f
 or the residents of the City of Hoover. This is just one of many events we
  host to work on our mission. \n\nWe invite you to get involved with the 2
 016 Hoover Cup. We also encourage you to learn more about the HPAR Foundat
 ion and discover how you can be a part of strengthening the quality of lif
 e for all residents of the City of Hoover.\n\n<b>The tournament registrati
 on form is available for download as a PDF at the bottom of this page.</b>
DTSTART;TZID=America/Chicago:20161017T090000
DTEND;TZID=America/Chicago:20161017T160000
LOCATION:Inverness Country Club
SUMMARY:Hoover Cup Golf Tournament
END:VEVENT
END:VCALENDAR
