BEGIN:VCALENDAR
VERSION:2.0
PRODID:-//aldridgegardens.com//NONSGML kigkonsult.se iCalcreator 2.30.10//
CALSCALE:GREGORIAN
METHOD:PUBLISH
UID:00e06eba-178e-41ed-94bb-78a90d257a76
X-WR-CALDESC:Make plans to join us for this special artist reception. See a
 nd hear Don Stewart talk about his incredibly intricate and detailed works
  on exhibit at Aldridge Gardens. \n\nDon received a Bachelor of Science de
 gree in Biology and Art at Birmingham-Southern College in 1981\, paying hi
 s way with a nightclub act as a comic ventriloquist. Initially he enrolled
  in art classes as a change of pace from a rigorous premedical curriculum.
  Soon\, however\, he was exposed to the idea of composite imagery\, and be
 gan exploring techniques in ballpoint drawing - even when a professor refu
 sed to allow the pen in his studio.\n\nDon continued to pursue artistic in
 terests as a hobby during medical training at the University of Alabama at
  Birmingham. After receiving his M.D. in 1985\, Dr. Stewart  completed an 
 internship in surgery at the Mayo Clinic\, but the lifestyle of a surgical
  resident clashed with his creative side. By year’s end\, Don opted to dis
 continue his medical studies\, after accepting awards for both short ficti
 on and poetry\, and publishing his first two composite drawings.\n\nThe au
 thor of two books\, he currently limits his medical practice to disorders 
 of the funny bone.\n\nJoin us on the 19th to hear more\, directly from the
  artist himself.\n
X-WR-RELCALID:12684dce3566241023d089ec6cf18e66
X-WR-TIMEZONE:America/Chicago
BEGIN:VTIMEZONE
TZID:America/Chicago
BEGIN:STANDARD
TZNAME:CST
DTSTART:20151101T020000
TZOFFSETFROM:-0500
TZOFFSETTO:-0600
RDATE:20161106T020000
RDATE:20171105T020000
END:STANDARD
BEGIN:DAYLIGHT
TZNAME:CDT
DTSTART:20160313T020000
TZOFFSETFROM:-0600
TZOFFSETTO:-0500
RDATE:20170312T020000
RDATE:20180311T020000
END:DAYLIGHT
END:VTIMEZONE
BEGIN:VEVENT
UID:af9d9844-9470-40f2-989a-29d617ddb0d8
DTSTAMP:20260422T113006Z
DESCRIPTION:Make plans to join us for this special artist reception. See an
 d hear Don Stewart talk about his incredibly intricate and detailed works 
 on exhibit at Aldridge Gardens. \n\nDon received a Bachelor of Science deg
 ree in Biology and Art at Birmingham-Southern College in 1981\, paying his
  way with a nightclub act as a comic ventriloquist. Initially he enrolled 
 in art classes as a change of pace from a rigorous premedical curriculum. 
 Soon\, however\, he was exposed to the idea of composite imagery\, and beg
 an exploring techniques in ballpoint drawing - even when a professor refus
 ed to allow the pen in his studio.\n\nDon continued to pursue artistic int
 erests as a hobby during medical training at the University of Alabama at 
 Birmingham. After receiving his M.D. in 1985\, Dr. Stewart  completed an i
 nternship in surgery at the Mayo Clinic\, but the lifestyle of a surgical 
 resident clashed with his creative side. By year’s end\, Don opted to disc
 ontinue his medical studies\, after accepting awards for both short fictio
 n and poetry\, and publishing his first two composite drawings.\n\nThe aut
 hor of two books\, he currently limits his medical practice to disorders o
 f the funny bone.\n\nJoin us on the 19th to hear more\, directly from the 
 artist himself.\n
DTSTART;TZID=America/Chicago:20161019T180000
DTEND;TZID=America/Chicago:20161019T190000
LOCATION:Eddie and Kay Aldridge Arts and Historical Collections Museum
SUMMARY:Meet the Artist Reception - Don Stewart
END:VEVENT
END:VCALENDAR
