BEGIN:VCALENDAR
VERSION:2.0
PRODID:-//aldridgegardens.com//NONSGML kigkonsult.se iCalcreator 2.30.10//
CALSCALE:GREGORIAN
METHOD:PUBLISH
UID:7b066187-c1f2-4355-8249-ac9071f88de3
X-WR-CALDESC:Propagator Level members will enjoy their monthly wine recepti
 on while mixing and mingling with artist Don Stewart. \n\nDon received a B
 achelor of Science degree in Biology and Art at Birmingham-Southern Colleg
 e in 1981\, paying his way with a nightclub act as a comic ventriloquist. 
 Initially he enrolled in art classes as a change of pace from a rigorous p
 remedical curriculum. Soon\, however\, he was exposed to the idea of compo
 site imagery\, and began exploring techniques in ballpoint drawing - even 
 when a professor refused to allow the pen in his studio.\n\nDon continued 
 to pursue artistic interests as a hobby during medical training at the Uni
 versity of Alabama at Birmingham. After receiving his M.D. in 1985\, Dr. S
 tewart  completed an internship in surgery at the Mayo Clinic\, but the li
 festyle of a surgical resident clashed with his creative side. By year’s e
 nd\, Don opted to discontinue his medical studies\, after accepting awards
  for both short fiction and poetry\, and publishing his first two composit
 e drawings.\n\nThe author of two books\, he currently limits his medical p
 ractice to disorders of the funny bone.\n\nJoin us on the 19th to hear mor
 e\, directly from the artist himself.\n
X-WR-RELCALID:042c972fd5689761957f2c396ad8e39d
X-WR-TIMEZONE:America/Chicago
BEGIN:VTIMEZONE
TZID:America/Chicago
BEGIN:STANDARD
TZNAME:CST
DTSTART:20151101T020000
TZOFFSETFROM:-0500
TZOFFSETTO:-0600
RDATE:20161106T020000
RDATE:20171105T020000
END:STANDARD
BEGIN:DAYLIGHT
TZNAME:CDT
DTSTART:20160313T020000
TZOFFSETFROM:-0600
TZOFFSETTO:-0500
RDATE:20170312T020000
RDATE:20180311T020000
END:DAYLIGHT
END:VTIMEZONE
BEGIN:VEVENT
UID:9af3e4fd-94fb-40ce-a83e-0193cfcf1e40
DTSTAMP:20260422T113338Z
DESCRIPTION:Propagator Level members will enjoy their monthly wine receptio
 n while mixing and mingling with artist Don Stewart. \n\nDon received a Ba
 chelor of Science degree in Biology and Art at Birmingham-Southern College
  in 1981\, paying his way with a nightclub act as a comic ventriloquist. I
 nitially he enrolled in art classes as a change of pace from a rigorous pr
 emedical curriculum. Soon\, however\, he was exposed to the idea of compos
 ite imagery\, and began exploring techniques in ballpoint drawing - even w
 hen a professor refused to allow the pen in his studio.\n\nDon continued t
 o pursue artistic interests as a hobby during medical training at the Univ
 ersity of Alabama at Birmingham. After receiving his M.D. in 1985\, Dr. St
 ewart  completed an internship in surgery at the Mayo Clinic\, but the lif
 estyle of a surgical resident clashed with his creative side. By year’s en
 d\, Don opted to discontinue his medical studies\, after accepting awards 
 for both short fiction and poetry\, and publishing his first two composite
  drawings.\n\nThe author of two books\, he currently limits his medical pr
 actice to disorders of the funny bone.\n\nJoin us on the 19th to hear more
 \, directly from the artist himself.\n
DTSTART;TZID=America/Chicago:20161019T170000
DTEND;TZID=America/Chicago:20161019T180000
LOCATION:Eddie and Kay Aldridge Arts and Historical Collections Museum
SUMMARY:Propagator Wine Reception: Meet the Artist - Don Stewart
END:VEVENT
END:VCALENDAR
