BEGIN:VCALENDAR
VERSION:2.0
PRODID:-//aldridgegardens.com//NONSGML kigkonsult.se iCalcreator 2.30.10//
CALSCALE:GREGORIAN
METHOD:PUBLISH
UID:10111602-55fb-496d-9bd3-d764d64cff71
X-WR-CALDESC:Just in time for Halloween! Learn about the fascinating world 
 of spiders with Dr. Drew Hataway from the Biology Department at Samford Un
 iversity. \n\nDr. Hataway will discuss his experiences with spiders\, both
  in the wild and in the laboratory. He'll even bring some interesting arac
 hnids for us to view up close. Learn how to distinguish venomous from non-
 venomous spiders. Plus\, bring your flashlights for a fun-filled field tri
 p after class in search of harmless wolf spiders on the grounds of Aldridg
 e Gardens. \n\nEnjoy a 'spiderific' evening in a great family-oriented sem
 inar for young and old alike -- but not for the faint of heart. Each child
  will receive a spider ring! \n\nCost for Aldridge Gardens members:  \nAdu
 lt $12.  Child $5.   Family (parents or grandparents with children\, $22) 
 \n\nCost for non-members:  \nAdult $15.  Child $7.  Family (parents or gra
 ndparents with children\, $28) \n
X-WR-RELCALID:cb110c967e387150083087e7ba850bda
X-WR-TIMEZONE:America/Chicago
BEGIN:VTIMEZONE
TZID:America/Chicago
BEGIN:STANDARD
TZNAME:CST
DTSTART:20151101T020000
TZOFFSETFROM:-0500
TZOFFSETTO:-0600
RDATE:20161106T020000
RDATE:20171105T020000
END:STANDARD
BEGIN:DAYLIGHT
TZNAME:CDT
DTSTART:20160313T020000
TZOFFSETFROM:-0600
TZOFFSETTO:-0500
RDATE:20170312T020000
RDATE:20180311T020000
END:DAYLIGHT
END:VTIMEZONE
BEGIN:VEVENT
UID:8e9fe6ca-e119-4227-af46-d38266d01667
DTSTAMP:20260422T112636Z
DESCRIPTION:Just in time for Halloween! Learn about the fascinating world o
 f spiders with Dr. Drew Hataway from the Biology Department at Samford Uni
 versity. \n\nDr. Hataway will discuss his experiences with spiders\, both 
 in the wild and in the laboratory. He'll even bring some interesting arach
 nids for us to view up close. Learn how to distinguish venomous from non-v
 enomous spiders. Plus\, bring your flashlights for a fun-filled field trip
  after class in search of harmless wolf spiders on the grounds of Aldridge
  Gardens. \n\nEnjoy a 'spiderific' evening in a great family-oriented semi
 nar for young and old alike -- but not for the faint of heart. Each child 
 will receive a spider ring! \n\nCost for Aldridge Gardens members:  \nAdul
 t $12.  Child $5.   Family (parents or grandparents with children\, $22) 
 \n\nCost for non-members:  \nAdult $15.  Child $7.  Family (parents or gra
 ndparents with children\, $28) \n
DTSTART;TZID=America/Chicago:20161024T183000
DTEND;TZID=America/Chicago:20161024T203000
LOCATION:
SUMMARY:Creepy Crawly Spiders of Alabama
END:VEVENT
END:VCALENDAR
