BEGIN:VCALENDAR
VERSION:2.0
PRODID:-//aldridgegardens.com//NONSGML kigkonsult.se iCalcreator 2.30.10//
CALSCALE:GREGORIAN
METHOD:PUBLISH
UID:12e16361-7d9d-40df-892d-b5b7df9dba98
X-WR-CALDESC:Celebrating the glorious Hydrangea blooms of 2016!\n\nAfter tw
 o disappointing bloom seasons in 2014 and 2015\, Hydrangea lovers were thr
 illed that the winter weather cooperated to give us spectacular blooms on 
 our French Hydrangeas this spring. We've asked our Alabama Hydrangea Socie
 ty members to take and submit photos of their spring and summer blooming H
 ydrangeas to document this year of bountiful blooms. All are welcome to at
 tend this 'virtual tour' of our members' gardens to marvel at the beauty t
 hat is on display as well as to potentially gain some landscaping ideas to
  implement in one's own yard.\n\nALABAMA HYDRANGEA SOCIETY\nInterested in 
 learning more about Hydrangeas and other related gardening topics? We invi
 te you to visit and join the Alabama Hydrangea Society. Meetings take plac
 e five times a year at Aldridge Gardens (3530 Lorna Road\, Hoover) at 1:00
  p.m. on the 4th Wednesday of these months: January\, March\, June\, Augus
 t\, and October. Membership is $15 per year for an individual or $25 per c
 ouple. Visitors are always welcome to attend.\n\nAldridge Gardens is the p
 erfect setting to inspire one’s learning more about the various types of H
 ydrangeas.\n
X-WR-RELCALID:fba9c885679cebf2ebfb19dac1c301b5
X-WR-TIMEZONE:America/Chicago
BEGIN:VTIMEZONE
TZID:America/Chicago
BEGIN:STANDARD
TZNAME:CST
DTSTART:20151101T020000
TZOFFSETFROM:-0500
TZOFFSETTO:-0600
RDATE:20161106T020000
RDATE:20171105T020000
END:STANDARD
BEGIN:DAYLIGHT
TZNAME:CDT
DTSTART:20160313T020000
TZOFFSETFROM:-0600
TZOFFSETTO:-0500
RDATE:20170312T020000
RDATE:20180311T020000
END:DAYLIGHT
END:VTIMEZONE
BEGIN:VEVENT
UID:6b9afff0-31b5-47eb-a848-a96afc655115
DTSTAMP:20260422T113913Z
DESCRIPTION:Celebrating the glorious Hydrangea blooms of 2016!\n\nAfter two
  disappointing bloom seasons in 2014 and 2015\, Hydrangea lovers were thri
 lled that the winter weather cooperated to give us spectacular blooms on o
 ur French Hydrangeas this spring. We've asked our Alabama Hydrangea Societ
 y members to take and submit photos of their spring and summer blooming Hy
 drangeas to document this year of bountiful blooms. All are welcome to att
 end this 'virtual tour' of our members' gardens to marvel at the beauty th
 at is on display as well as to potentially gain some landscaping ideas to 
 implement in one's own yard.\n\nALABAMA HYDRANGEA SOCIETY\nInterested in l
 earning more about Hydrangeas and other related gardening topics? We invit
 e you to visit and join the Alabama Hydrangea Society. Meetings take place
  five times a year at Aldridge Gardens (3530 Lorna Road\, Hoover) at 1:00 
 p.m. on the 4th Wednesday of these months: January\, March\, June\, August
 \, and October. Membership is $15 per year for an individual or $25 per co
 uple. Visitors are always welcome to attend.\n\nAldridge Gardens is the pe
 rfect setting to inspire one’s learning more about the various types of Hy
 drangeas.\n
DTSTART;TZID=America/Chicago:20161026T130000
DTEND;TZID=America/Chicago:20161026T140000
LOCATION:Aldridge House at the Gardens
SUMMARY:Alabama Hydrangea Society Meeting
END:VEVENT
END:VCALENDAR
