BEGIN:VCALENDAR
VERSION:2.0
PRODID:-//aldridgegardens.com//NONSGML kigkonsult.se iCalcreator 2.30.10//
CALSCALE:GREGORIAN
METHOD:PUBLISH
UID:099923d8-708f-438d-8a63-45fd3a3d37cc
X-WR-CALDESC:Saturday mornings were made for this!\n\nYou can't go wrong wi
 th fresh air and a little exercise while on a guided tour of the Gardens. 
 Join Dr. Richard and Patricia Ryel for a walk on our grounds to catch a gl
 impse of the beautiful birds that are migrating through the area. This mon
 thly members-only event is free\, but we do ask that you kindly RSVP.  \n
 \nThis is our final bird walk of 2016. Don't miss out!
X-WR-RELCALID:3d7e1d8635ae5b2a3223767c39e921e7
X-WR-TIMEZONE:America/Chicago
BEGIN:VTIMEZONE
TZID:America/Chicago
BEGIN:STANDARD
TZNAME:CST
DTSTART:20161106T020000
TZOFFSETFROM:-0500
TZOFFSETTO:-0600
RDATE:20171105T020000
END:STANDARD
BEGIN:DAYLIGHT
TZNAME:CDT
DTSTART:20160313T020000
TZOFFSETFROM:-0600
TZOFFSETTO:-0500
RDATE:20170312T020000
RDATE:20180311T020000
END:DAYLIGHT
END:VTIMEZONE
BEGIN:VEVENT
UID:d6a4aa01-a0a0-4b95-b66e-c419575e1106
DTSTAMP:20260422T095850Z
DESCRIPTION:Saturday mornings were made for this!\n\nYou can't go wrong wit
 h fresh air and a little exercise while on a guided tour of the Gardens. J
 oin Dr. Richard and Patricia Ryel for a walk on our grounds to catch a gli
 mpse of the beautiful birds that are migrating through the area. This mont
 hly members-only event is free\, but we do ask that you kindly RSVP.  \n\n
 This is our final bird walk of 2016. Don't miss out!
DTSTART;TZID=America/Chicago:20161119T080000
DTEND;TZID=America/Chicago:20161119T100000
LOCATION:
SUMMARY:Members Only Guided Bird Walk
END:VEVENT
END:VCALENDAR
