BEGIN:VCALENDAR
VERSION:2.0
PRODID:-//aldridgegardens.com//NONSGML kigkonsult.se iCalcreator 2.30.10//
CALSCALE:GREGORIAN
METHOD:PUBLISH
UID:275a586f-5338-49b2-ad79-eca5c293ebcd
X-WR-CALDESC:Learn how to turn your house into a beautiful southern home fo
 r the holidays!\n\nWatch award-winning floral designers\, Carol B. Harris 
 and Ricky Whitley\, as they decorate areas in the house and Gardens using 
 local greenery. They'll show you how to liven up mantels\, mailboxes\, lam
 p posts\, and entry halls using Alabama greenery such as yew\, magnolia\, 
 holly\, and nandina mixed with pine cones and berries.  Then take that exp
 erience with you and reproduce the look in your own home for the holidays!
 \n \nBring your camera\, join the fun and learn new techniques.  Bring a r
 oll of your favorite ribbon\, and our designers will help you get started 
 making bows and suggest appropriate containers.  Participants will receive
  a discount at Roots Garden and Gift Shop on the day of class.\n\nThe cost
  is $30 for Aldridge Gardens members and $40 for non-members.
X-WR-RELCALID:b99264a99ff4f41d9c998f42865d17f7
X-WR-TIMEZONE:America/Chicago
BEGIN:VTIMEZONE
TZID:America/Chicago
BEGIN:STANDARD
TZNAME:CST
DTSTART:20161106T020000
TZOFFSETFROM:-0500
TZOFFSETTO:-0600
RDATE:20171105T020000
END:STANDARD
BEGIN:DAYLIGHT
TZNAME:CDT
DTSTART:20160313T020000
TZOFFSETFROM:-0600
TZOFFSETTO:-0500
RDATE:20170312T020000
RDATE:20180311T020000
END:DAYLIGHT
END:VTIMEZONE
BEGIN:VEVENT
UID:0ff82eb9-c167-469e-8a5a-4d86409fb71c
DTSTAMP:20260422T095906Z
DESCRIPTION:Learn how to turn your house into a beautiful southern home for
  the holidays!\n\nWatch award-winning floral designers\, Carol B. Harris a
 nd Ricky Whitley\, as they decorate areas in the house and Gardens using l
 ocal greenery. They'll show you how to liven up mantels\, mailboxes\, lamp
  posts\, and entry halls using Alabama greenery such as yew\, magnolia\, h
 olly\, and nandina mixed with pine cones and berries.  Then take that expe
 rience with you and reproduce the look in your own home for the holidays!
 \n \nBring your camera\, join the fun and learn new techniques.  Bring a r
 oll of your favorite ribbon\, and our designers will help you get started 
 making bows and suggest appropriate containers.  Participants will receive
  a discount at Roots Garden and Gift Shop on the day of class.\n\nThe cost
  is $30 for Aldridge Gardens members and $40 for non-members.
DTSTART;TZID=America/Chicago:20161128T100000
DTEND;TZID=America/Chicago:20161128T120000
LOCATION:Eddie and Kay Aldridge Arts and Historical Collections Museum
SUMMARY:Holiday Greenery Workshop
END:VEVENT
END:VCALENDAR
