BEGIN:VCALENDAR
VERSION:2.0
PRODID:-//aldridgegardens.com//NONSGML kigkonsult.se iCalcreator 2.30.10//
CALSCALE:GREGORIAN
METHOD:PUBLISH
UID:169caeb5-aa16-407c-ab9b-37774a726c86
X-WR-CALDESC:Now is the time to decorate your mantles\, mailboxes\, and ent
 ryways to set the mood for the holidays. So decorate with fresh greenery\,
  bows and tree toppers from Aldridge Gardens! Get greenery for wreaths\, g
 arlands\, and other holiday decorations!\n\nAnd as long as you’re here and
  getting into the spirit of the season\, visit Roots for stress-free holid
 ay gift shopping! Follow the arbor-covered path to display areas showcasin
 g plants\, pots and containers\, books\, home and garden accessories\, and
  more. Roots is open Monday through Sunday\, 10:00 a.m. to 3:00 p.m.
X-WR-RELCALID:0f94aca96b9d013f8001b70f9d2155b8
X-WR-TIMEZONE:America/Chicago
BEGIN:VTIMEZONE
TZID:America/Chicago
BEGIN:STANDARD
TZNAME:CST
DTSTART:20161106T020000
TZOFFSETFROM:-0500
TZOFFSETTO:-0600
RDATE:20171105T020000
END:STANDARD
BEGIN:DAYLIGHT
TZNAME:CDT
DTSTART:20160313T020000
TZOFFSETFROM:-0600
TZOFFSETTO:-0500
RDATE:20170312T020000
RDATE:20180311T020000
END:DAYLIGHT
END:VTIMEZONE
BEGIN:VEVENT
UID:d69ed950-9c02-438b-a5db-819bffe335bd
DTSTAMP:20260422T082551Z
DESCRIPTION:Now is the time to decorate your mantles\, mailboxes\, and entr
 yways to set the mood for the holidays. So decorate with fresh greenery\, 
 bows and tree toppers from Aldridge Gardens! Get greenery for wreaths\, ga
 rlands\, and other holiday decorations!\n\nAnd as long as you’re here and 
 getting into the spirit of the season\, visit Roots for stress-free holida
 y gift shopping! Follow the arbor-covered path to display areas showcasing
  plants\, pots and containers\, books\, home and garden accessories\, and 
 more. Roots is open Monday through Sunday\, 10:00 a.m. to 3:00 p.m.
DTSTART;TZID=America/Chicago:20161203T090000
DTEND;TZID=America/Chicago:20161203T120000
LOCATION:Behind Aldridge House - on the patio at Roots
SUMMARY:Holiday Greenery Sale
END:VEVENT
END:VCALENDAR
