BEGIN:VCALENDAR
VERSION:2.0
PRODID:-//aldridgegardens.com//NONSGML kigkonsult.se iCalcreator 2.30.10//
CALSCALE:GREGORIAN
METHOD:PUBLISH
UID:6c34c6de-2d63-4650-b864-84b2ddce0fef
X-WR-CALDESC:Thursday\, Dec. 8th from 10 a.m. to 8 p.m.\, Aldridge Gardens 
 will host “Gifts of Art!' \n\nThis is THE BEST PLACE IN HOOVER to find ori
 ginal\, affordable\, hand-crafted works of art by Alabama Artists just in 
 time for the holidays. Nine artists were hand-selected by the Arts and Scu
 lpture Committee for this event. Pottery\, wood\, glass\, iron\, jewelry\,
  fabric\, painting\, and sculpture. Sizes and price points are just right 
 for the holiday season! \n\n“Gifts of Art” is Dec. 8 ONLY. 10 a.m. to 8 p.
 m. Come by during your morning errands\, your lunch break\, or enjoy refre
 shments after 5 p.m.\n\nArtists include:\nLarry Allen\, Leeds- Pottery\nDa
 n Browing\, Hoover- Wood\nMary Ann Casey\, Auburn- Painting\, Sculpture\nJ
 ohn Cleage\, Birmingham- Glass\nBarbara Dollar\, Hoover- Jewelry\nDonna Le
 igh Jackins\, Hoover- Poetic Fabric\nJoanna Sanders\, Hoover- Jewelry\nA C
  Reeves\, Selma- Jewelry\nAjene Williams\, Birmingham- Iron\n\n
X-WR-RELCALID:c530a7db35328cbf1b13e70542d03d98
X-WR-TIMEZONE:America/Chicago
BEGIN:VTIMEZONE
TZID:America/Chicago
BEGIN:STANDARD
TZNAME:CST
DTSTART:20161106T020000
TZOFFSETFROM:-0500
TZOFFSETTO:-0600
RDATE:20171105T020000
END:STANDARD
BEGIN:DAYLIGHT
TZNAME:CDT
DTSTART:20160313T020000
TZOFFSETFROM:-0600
TZOFFSETTO:-0500
RDATE:20170312T020000
RDATE:20180311T020000
END:DAYLIGHT
END:VTIMEZONE
BEGIN:VEVENT
UID:96848627-c4e7-4f1a-9b74-f4a038ff26b5
DTSTAMP:20260422T081805Z
DESCRIPTION:Thursday\, Dec. 8th from 10 a.m. to 8 p.m.\, Aldridge Gardens w
 ill host “Gifts of Art!' \n\nThis is THE BEST PLACE IN HOOVER to find orig
 inal\, affordable\, hand-crafted works of art by Alabama Artists just in t
 ime for the holidays. Nine artists were hand-selected by the Arts and Scul
 pture Committee for this event. Pottery\, wood\, glass\, iron\, jewelry\, 
 fabric\, painting\, and sculpture. Sizes and price points are just right f
 or the holiday season! \n\n“Gifts of Art” is Dec. 8 ONLY. 10 a.m. to 8 p.m
 . Come by during your morning errands\, your lunch break\, or enjoy refres
 hments after 5 p.m.\n\nArtists include:\nLarry Allen\, Leeds- Pottery\nDan
  Browing\, Hoover- Wood\nMary Ann Casey\, Auburn- Painting\, Sculpture\nJo
 hn Cleage\, Birmingham- Glass\nBarbara Dollar\, Hoover- Jewelry\nDonna Lei
 gh Jackins\, Hoover- Poetic Fabric\nJoanna Sanders\, Hoover- Jewelry\nA C 
 Reeves\, Selma- Jewelry\nAjene Williams\, Birmingham- Iron\n\n
DTSTART;TZID=America/Chicago:20161208T100000
DTEND;TZID=America/Chicago:20161208T200000
LOCATION:The House at Aldridge Gardens
SUMMARY:Gifts of Art
END:VEVENT
END:VCALENDAR
