BEGIN:VCALENDAR
VERSION:2.0
PRODID:-//aldridgegardens.com//NONSGML kigkonsult.se iCalcreator 2.30.10//
CALSCALE:GREGORIAN
METHOD:PUBLISH
UID:391005d0-fe57-4f02-8370-05dfad9f39e8
X-WR-CALDESC:The artist says this about his work\, “I am a true colorist at
  heart. I love color because it can conjure deep emotions. I am inspired b
 y it and hope to inspire with it. The color of a painting is far more impo
 rtant to me than the complexity of the image.”\n\nJoin us on the 19th to h
 ear more\, directly from Thomas Andrews himself.\n
X-WR-RELCALID:a64b9792299e854c4fa39cba7602eb8c
X-WR-TIMEZONE:America/Chicago
BEGIN:VTIMEZONE
TZID:America/Chicago
BEGIN:STANDARD
TZNAME:CST
DTSTART:20161106T020000
TZOFFSETFROM:-0500
TZOFFSETTO:-0600
RDATE:20171105T020000
END:STANDARD
BEGIN:DAYLIGHT
TZNAME:CDT
DTSTART:20160313T020000
TZOFFSETFROM:-0600
TZOFFSETTO:-0500
RDATE:20170312T020000
RDATE:20180311T020000
END:DAYLIGHT
END:VTIMEZONE
BEGIN:VEVENT
UID:d6d34db8-be44-4d12-99c1-ca95c3da7909
DTSTAMP:20260422T081912Z
DESCRIPTION:The artist says this about his work\, “I am a true colorist at 
 heart. I love color because it can conjure deep emotions. I am inspired by
  it and hope to inspire with it. The color of a painting is far more impor
 tant to me than the complexity of the image.”\n\nJoin us on the 19th to he
 ar more\, directly from Thomas Andrews himself.\n
DTSTART;TZID=America/Chicago:20161219T180000
DTEND;TZID=America/Chicago:20161219T190000
LOCATION:Eddie and Kay Aldridge Arts and Historical Collections Museum
SUMMARY:Meet the Artist Reception - Thomas Andrew
END:VEVENT
END:VCALENDAR
