BEGIN:VCALENDAR
VERSION:2.0
PRODID:-//aldridgegardens.com//NONSGML kigkonsult.se iCalcreator 2.30.10//
CALSCALE:GREGORIAN
METHOD:PUBLISH
UID:22922e06-6b9b-41ad-80a6-1037c505e3a0
X-WR-CALDESC:Propagator level members will enjoy their monthly wine recepti
 on while mixing and mingling with artist Thomas Andrew. \n\nTom says this 
 about his work\, “I am a true colorist at heart. I love color because it c
 an conjure deep emotions. I am inspired by it and hope to inspire with it.
  The color of a painting is far more important to me than the complexity o
 f the image.” Join us on the 19th to hear more\, directly from the artist 
 himself.\n\nThis propagator member event will roll into the general artist
  reception beginning at 6 p.m. \n
X-WR-RELCALID:c4304cb85f9c97b3c0c7a1b6e5550dc8
X-WR-TIMEZONE:America/Chicago
BEGIN:VTIMEZONE
TZID:America/Chicago
BEGIN:STANDARD
TZNAME:CST
DTSTART:20161106T020000
TZOFFSETFROM:-0500
TZOFFSETTO:-0600
RDATE:20171105T020000
END:STANDARD
BEGIN:DAYLIGHT
TZNAME:CDT
DTSTART:20160313T020000
TZOFFSETFROM:-0600
TZOFFSETTO:-0500
RDATE:20170312T020000
RDATE:20180311T020000
END:DAYLIGHT
END:VTIMEZONE
BEGIN:VEVENT
UID:4903b4f6-4013-4063-b54d-ffeab3beb905
DTSTAMP:20260422T081631Z
DESCRIPTION:Propagator level members will enjoy their monthly wine receptio
 n while mixing and mingling with artist Thomas Andrew. \n\nTom says this a
 bout his work\, “I am a true colorist at heart. I love color because it ca
 n conjure deep emotions. I am inspired by it and hope to inspire with it. 
 The color of a painting is far more important to me than the complexity of
  the image.” Join us on the 19th to hear more\, directly from the artist h
 imself.\n\nThis propagator member event will roll into the general artist 
 reception beginning at 6 p.m. \n
DTSTART;TZID=America/Chicago:20161219T170000
DTEND;TZID=America/Chicago:20161219T180000
LOCATION:Eddie and Kay Aldridge Arts and Historical Collections Museum
SUMMARY:Propagator Wine Reception: Meet the Artist - Thomas Andrew
END:VEVENT
END:VCALENDAR
