BEGIN:VCALENDAR
VERSION:2.0
PRODID:-//aldridgegardens.com//NONSGML kigkonsult.se iCalcreator 2.30.10//
CALSCALE:GREGORIAN
METHOD:PUBLISH
UID:aaf56b1a-c008-44b7-b23f-17eb787928d1
X-WR-CALDESC:TOPIC\nDrought and its Effect on our Gardens!\n\nSPEAKER\n Jam
 es Horton\, Director-City of Birmingham\, Birmingham Botanical Gardens\n\n
 ALABAMA HYDRANGEA SOCIETY\nInterested in learning more about Hydrangeas an
 d other related gardening topics? We invite you to visit and join the Alab
 ama Hydrangea Society. Meetings take place five times a year at Aldridge G
 ardens (3530 Lorna Road\, Hoover) at 1:00 p.m. on the 4th Wednesday of the
 se months: January\, March\, June\, August\, and October. Membership is $1
 5 per year for an individual or $25 per couple. Visitors are always welcom
 e to attend.\n\nAldridge Gardens is the perfect setting to inspire one’s l
 earning more about the various types of Hydrangeas.\n
X-WR-RELCALID:a033bbde4ff88da59fe38d0d8250db90
X-WR-TIMEZONE:America/Chicago
BEGIN:VTIMEZONE
TZID:America/Chicago
BEGIN:STANDARD
TZNAME:CST
DTSTART:20161106T020000
TZOFFSETFROM:-0500
TZOFFSETTO:-0600
RDATE:20171105T020000
END:STANDARD
BEGIN:DAYLIGHT
TZNAME:CDT
DTSTART:20160313T020000
TZOFFSETFROM:-0600
TZOFFSETTO:-0500
RDATE:20170312T020000
RDATE:20180311T020000
END:DAYLIGHT
END:VTIMEZONE
BEGIN:VEVENT
UID:57c2ddd0-67f3-417e-9dec-dbade06353ef
DTSTAMP:20260422T062001Z
DESCRIPTION:TOPIC\nDrought and its Effect on our Gardens!\n\nSPEAKER\n Jame
 s Horton\, Director-City of Birmingham\, Birmingham Botanical Gardens\n\nA
 LABAMA HYDRANGEA SOCIETY\nInterested in learning more about Hydrangeas and
  other related gardening topics? We invite you to visit and join the Alaba
 ma Hydrangea Society. Meetings take place five times a year at Aldridge Ga
 rdens (3530 Lorna Road\, Hoover) at 1:00 p.m. on the 4th Wednesday of thes
 e months: January\, March\, June\, August\, and October. Membership is $15
  per year for an individual or $25 per couple. Visitors are always welcome
  to attend.\n\nAldridge Gardens is the perfect setting to inspire one’s le
 arning more about the various types of Hydrangeas.\n
DTSTART;TZID=America/Chicago:20170125T130000
DTEND;TZID=America/Chicago:20170125T140000
LOCATION:Aldridge House at the Gardens
SUMMARY:Alabama Hydrangea Society Meeting
END:VEVENT
END:VCALENDAR
