BEGIN:VCALENDAR
VERSION:2.0
PRODID:-//aldridgegardens.com//NONSGML kigkonsult.se iCalcreator 2.30.10//
CALSCALE:GREGORIAN
METHOD:PUBLISH
UID:7850d3bc-0de8-462a-87cc-a34384cc4391
X-WR-CALDESC:Join us on Saturday\, March 4\, 2017 for Hoover’s 19th annual 
 Arbor Day celebration.  Event includes FREE TREES for Hoover residents\, a
  formal Arbor Day ceremony\, recognition of Hoover Schools' 4th Grade Arbo
 r Day Essay Contest winners\, and a ceremonial tree planting. In addition\
 , our Roots Gift Shop will open at 9:30 a.m. and plenty of food and drinks
  will be available from local sponsors. The festivities start at 9:30 a.m.
  and end by 11:30 a.m.  Come show your support for Hoover’s most valuable 
 natural resource!\n\n<i>Photo courtesy: Hoover Sun</i>
X-WR-RELCALID:dcb30829cfff89005e182973278be506
X-WR-TIMEZONE:America/Chicago
BEGIN:VTIMEZONE
TZID:America/Chicago
BEGIN:STANDARD
TZNAME:CST
DTSTART:20161106T020000
TZOFFSETFROM:-0500
TZOFFSETTO:-0600
RDATE:20171105T020000
END:STANDARD
BEGIN:DAYLIGHT
TZNAME:CDT
DTSTART:20160313T020000
TZOFFSETFROM:-0600
TZOFFSETTO:-0500
RDATE:20170312T020000
RDATE:20180311T020000
END:DAYLIGHT
END:VTIMEZONE
BEGIN:VEVENT
UID:f02aa1cb-e798-48f2-a64d-1022abf79e33
DTSTAMP:20260422T033111Z
DESCRIPTION:Join us on Saturday\, March 4\, 2017 for Hoover’s 19th annual A
 rbor Day celebration.  Event includes FREE TREES for Hoover residents\, a 
 formal Arbor Day ceremony\, recognition of Hoover Schools' 4th Grade Arbor
  Day Essay Contest winners\, and a ceremonial tree planting. In addition\,
  our Roots Gift Shop will open at 9:30 a.m. and plenty of food and drinks 
 will be available from local sponsors. The festivities start at 9:30 a.m. 
 and end by 11:30 a.m.  Come show your support for Hoover’s most valuable n
 atural resource!\n\n<i>Photo courtesy: Hoover Sun</i>
DTSTART;TZID=America/Chicago:20170304T093000
DTEND;TZID=America/Chicago:20170304T113000
LOCATION:Aldridge Gardens
SUMMARY:City of Hoover’s 19th Annual Arbor Day Celebration presented by the
  Hoover Beautification Board
END:VEVENT
END:VCALENDAR
