BEGIN:VCALENDAR
VERSION:2.0
PRODID:-//aldridgegardens.com//NONSGML kigkonsult.se iCalcreator 2.30.10//
CALSCALE:GREGORIAN
METHOD:PUBLISH
UID:ee4a1447-f1ac-4755-bdd2-145ad472c073
X-WR-CALDESC:$12 Members/$15 Non-Members\nClass size is limited.  Pre-regis
 tration suggested.\n\nWilliam Edward Cureton is known throughout Alabama\,
  and beyond\, as 'Captain Compost.' He and his wife Peggy lecture at vario
 us Master Gardener classes\, other garden clubs throughout the state\, and
  across the country. \n \nWilliam is one of the main authors of the organi
 c gardening forum FAQ page on GardenWeb.com and is the moderator on the co
 mposting forum on DirtDoctor.com.  The 'Captain' is also very popular on t
 he Rodale Organic Gardening website forums. He sells homemade compost\, by
  the truckload or bag\, to local farmers and gardeners.  \n\nYou can learn
  more about him and his mission at captaincompostalabama.com. \n
X-WR-RELCALID:3d1e7fd1ef398490c04937b3836c4287
X-WR-TIMEZONE:America/Chicago
BEGIN:VTIMEZONE
TZID:America/Chicago
BEGIN:STANDARD
TZNAME:CST
DTSTART:20161106T020000
TZOFFSETFROM:-0500
TZOFFSETTO:-0600
RDATE:20171105T020000
END:STANDARD
BEGIN:DAYLIGHT
TZNAME:CDT
DTSTART:20170312T020000
TZOFFSETFROM:-0600
TZOFFSETTO:-0500
RDATE:20180311T020000
END:DAYLIGHT
END:VTIMEZONE
BEGIN:VEVENT
UID:a1973268-fe41-4017-b607-5720e77a6a46
DTSTAMP:20260422T032827Z
DESCRIPTION:$12 Members/$15 Non-Members\nClass size is limited.  Pre-regist
 ration suggested.\n\nWilliam Edward Cureton is known throughout Alabama\, 
 and beyond\, as 'Captain Compost.' He and his wife Peggy lecture at variou
 s Master Gardener classes\, other garden clubs throughout the state\, and 
 across the country. \n \nWilliam is one of the main authors of the organic
  gardening forum FAQ page on GardenWeb.com and is the moderator on the com
 posting forum on DirtDoctor.com.  The 'Captain' is also very popular on th
 e Rodale Organic Gardening website forums. He sells homemade compost\, by 
 the truckload or bag\, to local farmers and gardeners.  \n\nYou can learn 
 more about him and his mission at captaincompostalabama.com. \n
DTSTART;TZID=America/Chicago:20170314T180000
DTEND;TZID=America/Chicago:20170314T200000
LOCATION:
SUMMARY:Captain Compost and How to Feed Your Garden
END:VEVENT
END:VCALENDAR
