BEGIN:VCALENDAR
VERSION:2.0
PRODID:-//aldridgegardens.com//NONSGML kigkonsult.se iCalcreator 2.30.10//
CALSCALE:GREGORIAN
METHOD:PUBLISH
UID:53b9aca7-2c4f-49c6-93ec-777575dbbf5b
X-WR-CALDESC:HYDRANGEA 101 BY KAREN MITCHELL\n \nJoin members of the Alabam
 a Hydrangea Society for an introduction to the various types of hydrangeas
 . Hydrangeas are an important and major component of most southern gardens
 \, yet there is much confusion as to the proper time to prune and fertiliz
 e the various species of hydrangeas. Some are native plants while others a
 re native to Asia\, but have found a home in southern gardens. Visitors ar
 e welcome to attend this free discussion.\n \nAs an added bonus\, the Hydr
 angeas we will be studying are all varieties being offered for sale at the
  Birmingham Botanical Gardens plant sale (April 6-9) and the Aldridge Gard
 ens plant sale (April 27-29).  \n\nALABAMA HYDRANGEA SOCIETY\nInterested i
 n learning more about Hydrangeas and other related gardening topics? We in
 vite you to visit and join the Alabama Hydrangea Society. Meetings take pl
 ace five times a year at Aldridge Gardens (3530 Lorna Road\, Hoover) at 1:
 00 p.m. on the 4th Wednesday of these months: January\, March\, June\, Aug
 ust\, and October. Membership is $15 per year for an individual or $25 per
  couple. Visitors are always welcome to attend.\n\nAldridge Gardens is the
  perfect setting to inspire one’s learning more about the various types of
  Hydrangeas.\n
X-WR-RELCALID:676eb368412899af7dafe0a64044f47d
X-WR-TIMEZONE:America/Chicago
BEGIN:VTIMEZONE
TZID:America/Chicago
BEGIN:STANDARD
TZNAME:CST
DTSTART:20161106T020000
TZOFFSETFROM:-0500
TZOFFSETTO:-0600
RDATE:20171105T020000
END:STANDARD
BEGIN:DAYLIGHT
TZNAME:CDT
DTSTART:20170312T020000
TZOFFSETFROM:-0600
TZOFFSETTO:-0500
RDATE:20180311T020000
END:DAYLIGHT
END:VTIMEZONE
BEGIN:VEVENT
UID:92f7e4b0-0260-4274-a133-6bf138e6ebeb
DTSTAMP:20260422T032158Z
DESCRIPTION:HYDRANGEA 101 BY KAREN MITCHELL\n \nJoin members of the Alabama
  Hydrangea Society for an introduction to the various types of hydrangeas.
  Hydrangeas are an important and major component of most southern gardens\
 , yet there is much confusion as to the proper time to prune and fertilize
  the various species of hydrangeas. Some are native plants while others ar
 e native to Asia\, but have found a home in southern gardens. Visitors are
  welcome to attend this free discussion.\n \nAs an added bonus\, the Hydra
 ngeas we will be studying are all varieties being offered for sale at the 
 Birmingham Botanical Gardens plant sale (April 6-9) and the Aldridge Garde
 ns plant sale (April 27-29).  \n\nALABAMA HYDRANGEA SOCIETY\nInterested in
  learning more about Hydrangeas and other related gardening topics? We inv
 ite you to visit and join the Alabama Hydrangea Society. Meetings take pla
 ce five times a year at Aldridge Gardens (3530 Lorna Road\, Hoover) at 1:0
 0 p.m. on the 4th Wednesday of these months: January\, March\, June\, Augu
 st\, and October. Membership is $15 per year for an individual or $25 per 
 couple. Visitors are always welcome to attend.\n\nAldridge Gardens is the 
 perfect setting to inspire one’s learning more about the various types of 
 Hydrangeas.\n
DTSTART;TZID=America/Chicago:20170322T130000
DTEND;TZID=America/Chicago:20170322T140000
LOCATION:Aldridge House at the Gardens
SUMMARY:Alabama Hydrangea Society Meeting
END:VEVENT
END:VCALENDAR
