BEGIN:VCALENDAR
VERSION:2.0
PRODID:-//aldridgegardens.com//NONSGML kigkonsult.se iCalcreator 2.30.10//
CALSCALE:GREGORIAN
METHOD:PUBLISH
UID:2c5fa217-2ad2-4477-8284-ccb5ea7b0559
X-WR-CALDESC:Join us for a delightful evening with Randy Haddock\, the Fiel
 d Director for the Cahaba River Society.  Listen to him share his joy\, hi
 s photos\, and his knowledge of this prize of Alabama.\n\nTuesday\, April 
 11\, from 6-8 p.m. \n$20 members/$25 non-members.\nSeating is limited so r
 egister early!\n
X-WR-RELCALID:e69f0e2fb5153360d116a69484dbcbd3
X-WR-TIMEZONE:America/Chicago
BEGIN:VTIMEZONE
TZID:America/Chicago
BEGIN:STANDARD
TZNAME:CST
DTSTART:20161106T020000
TZOFFSETFROM:-0500
TZOFFSETTO:-0600
RDATE:20171105T020000
END:STANDARD
BEGIN:DAYLIGHT
TZNAME:CDT
DTSTART:20170312T020000
TZOFFSETFROM:-0600
TZOFFSETTO:-0500
RDATE:20180311T020000
END:DAYLIGHT
END:VTIMEZONE
BEGIN:VEVENT
UID:92a7803a-5ae9-4505-b3ee-660930ba5e7e
DTSTAMP:20260422T013604Z
DESCRIPTION:Join us for a delightful evening with Randy Haddock\, the Field
  Director for the Cahaba River Society.  Listen to him share his joy\, his
  photos\, and his knowledge of this prize of Alabama.\n\nTuesday\, April 1
 1\, from 6-8 p.m. \n$20 members/$25 non-members.\nSeating is limited so re
 gister early!\n
DTSTART;TZID=America/Chicago:20170411T180000
DTEND;TZID=America/Chicago:20170411T200000
LOCATION:The House at Aldridge Gardens
SUMMARY:The Cahaba Lilies and their River
END:VEVENT
END:VCALENDAR
