BEGIN:VCALENDAR
VERSION:2.0
PRODID:-//aldridgegardens.com//NONSGML kigkonsult.se iCalcreator 2.30.10//
CALSCALE:GREGORIAN
METHOD:PUBLISH
UID:8ad77815-bc6c-4528-aa16-47c1e28ed895
X-WR-CALDESC:Murray Johnston creates incredible works of art in the form of
  quilts. Here's what the artist has to say about her work:\n\n'Mountains a
 nd sky\, rocks\, wood and water mingle to create an intriguing\, inspirati
 onal resource. I see and hear and taste the land that surrounds me. To pul
 l out the abstracted memories of place and time and piece them into rhythm
 s that evoke a response is my primary goal. Colors and natural images are 
 a universal language and the conversations I have with these works are a c
 onstant\, exhilarating challenge.\n\nBeginning with an idea /memory\, the 
 surface design of the quilt grows and changes as I work to have it become 
 the unique expression of the original memory. This surface is a combinatio
 n of fabric collage and machine piecing. Cotton fabrics and batting and ra
 yon threads are the medium. Textile inked fabric and hand printed words on
  fabric may be incorporated into the work. The process is primarily done o
 n a large work wall. The whole image is finally enhanced with free form th
 read drawing\, outlining and filling in the abstract images of the surface
  design. The images that make up the quilt come from my heart and my head 
 with little drawing ahead of time.\n\nMy quilts continue the structural tr
 adition of a three layered fabric component held together with stitching. 
 The nontraditional elements are there in the fabric collage that comes clo
 ser to painting with fabric than more common piecing or appliqué does\, as
  well as the free form thread drawing when the needle and thread become my
  paint and brush.'\n\nJoin us on the 13th to hear more\, directly from Mur
 ray Johnston herself.\n
X-WR-RELCALID:5461c74cb5ad218885454d8e25d1d4e1
X-WR-TIMEZONE:America/Chicago
BEGIN:VTIMEZONE
TZID:America/Chicago
BEGIN:STANDARD
TZNAME:CST
DTSTART:20161106T020000
TZOFFSETFROM:-0500
TZOFFSETTO:-0600
RDATE:20171105T020000
END:STANDARD
BEGIN:DAYLIGHT
TZNAME:CDT
DTSTART:20170312T020000
TZOFFSETFROM:-0600
TZOFFSETTO:-0500
RDATE:20180311T020000
END:DAYLIGHT
END:VTIMEZONE
BEGIN:VEVENT
UID:47a8fdc4-ea0a-4a5d-a26e-996657c0e0ed
DTSTAMP:20260422T013344Z
DESCRIPTION:Murray Johnston creates incredible works of art in the form of 
 quilts. Here's what the artist has to say about her work:\n\n'Mountains an
 d sky\, rocks\, wood and water mingle to create an intriguing\, inspiratio
 nal resource. I see and hear and taste the land that surrounds me. To pull
  out the abstracted memories of place and time and piece them into rhythms
  that evoke a response is my primary goal. Colors and natural images are a
  universal language and the conversations I have with these works are a co
 nstant\, exhilarating challenge.\n\nBeginning with an idea /memory\, the s
 urface design of the quilt grows and changes as I work to have it become t
 he unique expression of the original memory. This surface is a combination
  of fabric collage and machine piecing. Cotton fabrics and batting and ray
 on threads are the medium. Textile inked fabric and hand printed words on 
 fabric may be incorporated into the work. The process is primarily done on
  a large work wall. The whole image is finally enhanced with free form thr
 ead drawing\, outlining and filling in the abstract images of the surface 
 design. The images that make up the quilt come from my heart and my head w
 ith little drawing ahead of time.\n\nMy quilts continue the structural tra
 dition of a three layered fabric component held together with stitching. T
 he nontraditional elements are there in the fabric collage that comes clos
 er to painting with fabric than more common piecing or appliqué does\, as 
 well as the free form thread drawing when the needle and thread become my 
 paint and brush.'\n\nJoin us on the 13th to hear more\, directly from Murr
 ay Johnston herself.\n
DTSTART;TZID=America/Chicago:20170413T180000
DTEND;TZID=America/Chicago:20170413T190000
LOCATION:Eddie and Kay Aldridge Arts and Historical Collections Museum
SUMMARY:Meet the Artist Reception - Murray Johnston
END:VEVENT
END:VCALENDAR
