BEGIN:VCALENDAR
VERSION:2.0
PRODID:-//aldridgegardens.com//NONSGML kigkonsult.se iCalcreator 2.30.10//
CALSCALE:GREGORIAN
METHOD:PUBLISH
UID:6bdc1c8e-e0a0-445e-9db5-adc75b5f7139
X-WR-CALDESC:Propagator level members will enjoy their monthly wine recepti
 on while mixing and mingling with the artist. Murray Johnston creates incr
 edible works of art in the form of quilts. Here's what she has to say abou
 t her work:\n\n'Mountains and sky\, rocks\, wood and water mingle to creat
 e an intriguing\, inspirational resource. I see and hear and taste the lan
 d that surrounds me. To pull out the abstracted memories of place and time
  and piece them into rhythms that evoke a response is my primary goal. Col
 ors and natural images are a universal language and the conversations I ha
 ve with these works are a constant\, exhilarating challenge.\n\nBeginning 
 with an idea /memory\, the surface design of the quilt grows and changes a
 s I work to have it become the unique expression of the original memory. T
 his surface is a combination of fabric collage and machine piecing. Cotton
  fabrics and batting and rayon threads are the medium. Textile inked fabri
 c and hand printed words on fabric may be incorporated into the work. The 
 process is primarily done on a large work wall. The whole image is finally
  enhanced with free form thread drawing\, outlining and filling in the abs
 tract images of the surface design. The images that make up the quilt come
  from my heart and my head with little drawing ahead of time.\n\nMy quilts
  continue the structural tradition of a three layered fabric component hel
 d together with stitching. The nontraditional elements are there in the fa
 bric collage that comes closer to painting with fabric than more common pi
 ecing or appliqué does\, as well as the free form thread drawing when the 
 needle and thread become my paint and brush.'\n\nJoin us on the 13th to he
 ar more\, directly from Murray Johnston herself.\n\nThis propagator member
  event will roll into the general artist reception beginning at 6 p.m. \n
X-WR-RELCALID:30b4ca2d1a6f0010039e9b5d35547bc0
X-WR-TIMEZONE:America/Chicago
BEGIN:VTIMEZONE
TZID:America/Chicago
BEGIN:STANDARD
TZNAME:CST
DTSTART:20161106T020000
TZOFFSETFROM:-0500
TZOFFSETTO:-0600
RDATE:20171105T020000
END:STANDARD
BEGIN:DAYLIGHT
TZNAME:CDT
DTSTART:20170312T020000
TZOFFSETFROM:-0600
TZOFFSETTO:-0500
RDATE:20180311T020000
END:DAYLIGHT
END:VTIMEZONE
BEGIN:VEVENT
UID:e7cf5696-bf2b-493d-98da-db7a1cfc5166
DTSTAMP:20260422T013523Z
DESCRIPTION:Propagator level members will enjoy their monthly wine receptio
 n while mixing and mingling with the artist. Murray Johnston creates incre
 dible works of art in the form of quilts. Here's what she has to say about
  her work:\n\n'Mountains and sky\, rocks\, wood and water mingle to create
  an intriguing\, inspirational resource. I see and hear and taste the land
  that surrounds me. To pull out the abstracted memories of place and time 
 and piece them into rhythms that evoke a response is my primary goal. Colo
 rs and natural images are a universal language and the conversations I hav
 e with these works are a constant\, exhilarating challenge.\n\nBeginning w
 ith an idea /memory\, the surface design of the quilt grows and changes as
  I work to have it become the unique expression of the original memory. Th
 is surface is a combination of fabric collage and machine piecing. Cotton 
 fabrics and batting and rayon threads are the medium. Textile inked fabric
  and hand printed words on fabric may be incorporated into the work. The p
 rocess is primarily done on a large work wall. The whole image is finally 
 enhanced with free form thread drawing\, outlining and filling in the abst
 ract images of the surface design. The images that make up the quilt come 
 from my heart and my head with little drawing ahead of time.\n\nMy quilts 
 continue the structural tradition of a three layered fabric component held
  together with stitching. The nontraditional elements are there in the fab
 ric collage that comes closer to painting with fabric than more common pie
 cing or appliqué does\, as well as the free form thread drawing when the n
 eedle and thread become my paint and brush.'\n\nJoin us on the 13th to hea
 r more\, directly from Murray Johnston herself.\n\nThis propagator member 
 event will roll into the general artist reception beginning at 6 p.m. \n
DTSTART;TZID=America/Chicago:20170413T170000
DTEND;TZID=America/Chicago:20170413T180000
LOCATION:Eddie and Kay Aldridge Arts and Historical Collections Museum
SUMMARY:Propagator Wine Reception - Artist Murray Johnston
END:VEVENT
END:VCALENDAR
