BEGIN:VCALENDAR
VERSION:2.0
PRODID:-//aldridgegardens.com//NONSGML kigkonsult.se iCalcreator 2.30.10//
CALSCALE:GREGORIAN
METHOD:PUBLISH
UID:c81fbae4-f3c2-4164-8c83-d5ab8f7ec00f
X-WR-CALDESC:<br><b>Unfortunately\, this series of workshops has been cance
 lled.</b>\n\nDon't miss the chance to try your hand at creating a Bonsai! 
 Through this series of four monthly workshops\, you will receive your own 
 Juniper in a dish with individual counseling on how to learn to bonsai its
  growth on the first meeting. This is a rare opportunity! After the first 
 workshop meeting\, bring your tiny tree back for the next three meetings f
 or more counseling\, suggestions\, and handouts. This class will give you 
 a chance to really connect with forming your own tree and the good habits 
 that will serve you in its care.\n\nThe workshops will be lead by John Wal
 ker\, one of the Aldridge Gardens Bonsai keepers.\n\nCost per juniper and 
 workshop is $130 for members\, $160 for nonmembers.\n\nWorkshops are sched
 uled to take place on\nTuesday\, April 18\, \nTuesday\, May 23\, \nTuesday
 \, June 20\, and \nTuesday\, July 18\nall from 6 - 8 p.m. \nin the Aldridg
 e Gardens House.\n\n<br><b>Unfortunately\, this series of workshops has be
 en cancelled.</b><br><br>
X-WR-RELCALID:901731ec7b993d5fec46c5415c88f9d4
X-WR-TIMEZONE:America/Chicago
BEGIN:VTIMEZONE
TZID:America/Chicago
BEGIN:STANDARD
TZNAME:CST
DTSTART:20161106T020000
TZOFFSETFROM:-0500
TZOFFSETTO:-0600
RDATE:20171105T020000
END:STANDARD
BEGIN:DAYLIGHT
TZNAME:CDT
DTSTART:20170312T020000
TZOFFSETFROM:-0600
TZOFFSETTO:-0500
RDATE:20180311T020000
END:DAYLIGHT
END:VTIMEZONE
BEGIN:VEVENT
UID:6395cc5f-82cb-46e2-ab65-93abc88c5f69
DTSTAMP:20260422T021924Z
DESCRIPTION:<br><b>Unfortunately\, this series of workshops has been cancel
 led.</b>\n\nDon't miss the chance to try your hand at creating a Bonsai! T
 hrough this series of four monthly workshops\, you will receive your own J
 uniper in a dish with individual counseling on how to learn to bonsai its 
 growth on the first meeting. This is a rare opportunity! After the first w
 orkshop meeting\, bring your tiny tree back for the next three meetings fo
 r more counseling\, suggestions\, and handouts. This class will give you a
  chance to really connect with forming your own tree and the good habits t
 hat will serve you in its care.\n\nThe workshops will be lead by John Walk
 er\, one of the Aldridge Gardens Bonsai keepers.\n\nCost per juniper and w
 orkshop is $130 for members\, $160 for nonmembers.\n\nWorkshops are schedu
 led to take place on\nTuesday\, April 18\, \nTuesday\, May 23\, \nTuesday\
 , June 20\, and \nTuesday\, July 18\nall from 6 - 8 p.m. \nin the Aldridge
  Gardens House.\n\n<br><b>Unfortunately\, this series of workshops has bee
 n cancelled.</b><br><br>
DTSTART;TZID=America/Chicago:20170418T180000
DTEND;TZID=America/Chicago:20170418T200000
LOCATION:The Aldridge Gardens House
SUMMARY:Bonsai Workshops
END:VEVENT
END:VCALENDAR
