BEGIN:VCALENDAR
VERSION:2.0
PRODID:-//aldridgegardens.com//NONSGML kigkonsult.se iCalcreator 2.30.10//
CALSCALE:GREGORIAN
METHOD:PUBLISH
UID:37806e5f-b43e-4b36-9877-92876eda36d8
X-WR-CALDESC:Aldridge Gardens Members - Join us for the preview of our annu
 al Spring Plant Sale. \n\nMembers-Only Sale Preview - Thursday\, April 27\
 , 4 - 7 p.m.\nAnnual Spring Plant Sale - Friday\, April 28\, 9 a.m. - 5 p.
 m.\nAnnual Spring Plant Sale - Saturday\, April 29\, 9 a.m. - Noon\n\nFind
  the perfect plants for your container or garden spot! Volunteers and gard
 eners will be on hand to help with selections and to give advice about pla
 cement\, care and maintenance. \n\nCustomers can own 'a little bit of Aldr
 idge Gardens' when they buy a pass-along plant that lived there! We are go
 ing to have many plants with an Aldridge Gardens heritage. In addition\, w
 e'll also have many more from members and friends of the gardens!\n\nOur m
 ain feature is always the 'Snowflake' hydrangea\, but shoppers can also ch
 oose from a host of others. Shoppers will find many varieties and sizes of
  hydrangeas at our annual Spring Plant Sale! \n\n<a href='http://aldridgeg
 ardens.com/education/events/annual_events/annual_plant_sale/featured_plant
 s.html'>See a list of available plants here.</a>\n\nAnd\, remember\, membe
 rs always get 10% off purchases!
X-WR-RELCALID:6267a28d85aa65c3e315b3f90f1afa7d
X-WR-TIMEZONE:America/Chicago
BEGIN:VTIMEZONE
TZID:America/Chicago
BEGIN:STANDARD
TZNAME:CST
DTSTART:20161106T020000
TZOFFSETFROM:-0500
TZOFFSETTO:-0600
RDATE:20171105T020000
END:STANDARD
BEGIN:DAYLIGHT
TZNAME:CDT
DTSTART:20170312T020000
TZOFFSETFROM:-0600
TZOFFSETTO:-0500
RDATE:20180311T020000
END:DAYLIGHT
END:VTIMEZONE
BEGIN:VEVENT
UID:1f4209f6-be1e-4eb3-b322-4f6bb36adc08
DTSTAMP:20260422T014055Z
DESCRIPTION:Aldridge Gardens Members - Join us for the preview of our annua
 l Spring Plant Sale. \n\nMembers-Only Sale Preview - Thursday\, April 27\,
  4 - 7 p.m.\nAnnual Spring Plant Sale - Friday\, April 28\, 9 a.m. - 5 p.m
 .\nAnnual Spring Plant Sale - Saturday\, April 29\, 9 a.m. - Noon\n\nFind 
 the perfect plants for your container or garden spot! Volunteers and garde
 ners will be on hand to help with selections and to give advice about plac
 ement\, care and maintenance. \n\nCustomers can own 'a little bit of Aldri
 dge Gardens' when they buy a pass-along plant that lived there! We are goi
 ng to have many plants with an Aldridge Gardens heritage. In addition\, we
 'll also have many more from members and friends of the gardens!\n\nOur ma
 in feature is always the 'Snowflake' hydrangea\, but shoppers can also cho
 ose from a host of others. Shoppers will find many varieties and sizes of 
 hydrangeas at our annual Spring Plant Sale! \n\n<a href='http://aldridgega
 rdens.com/education/events/annual_events/annual_plant_sale/featured_plants
 .html'>See a list of available plants here.</a>\n\nAnd\, remember\, member
 s always get 10% off purchases!
DTSTART;TZID=America/Chicago:20170427T160000
DTEND;TZID=America/Chicago:20170427T190000
LOCATION:
SUMMARY:Members-Only Spring Plant Sale Preview
END:VEVENT
END:VCALENDAR
