BEGIN:VCALENDAR
VERSION:2.0
PRODID:-//aldridgegardens.com//NONSGML kigkonsult.se iCalcreator 2.30.10//
CALSCALE:GREGORIAN
METHOD:PUBLISH
UID:2578541f-6b38-4e02-97dc-059ae51fba16
X-WR-CALDESC:Join us for our annual Spring Plant Sale. \n\nMembers-Only Sal
 e Preview - Thursday\, April 27\, 4 - 7 p.m.\nAnnual Spring Plant Sale - F
 riday\, April 28\, 9 a.m. - 5 p.m.\nAnnual Spring Plant Sale - Saturday\, 
 April 29\, 9 a.m. - Noon\n\nFind the perfect plants for your container or 
 garden spot! Volunteers and gardeners will be on hand to help with selecti
 ons and to give advice about placement\, care and maintenance. \n\nCustome
 rs can own 'a little bit of Aldridge Gardens' when they buy a pass-along p
 lant that lived there! We are going to have many plants with an Aldridge G
 ardens heritage. In addition\, we'll also have many more from members and 
 friends of the gardens!\n\nOur main feature is always the 'Snowflake' hydr
 angea\, but shoppers can also choose from a host of others. Shoppers will 
 find many varieties and sizes of hydrangeas at our annual Spring Plant Sal
 e! \n\n<a href='http://aldridgegardens.com/education/events/annual_events/
 annual_plant_sale/featured_plants.html'>See a list of available plants her
 e.</a>\n\nAnd\, remember\, members always get 10% off purchases!
X-WR-RELCALID:66c7f05bda15a54f228c88b51930ffe4
X-WR-TIMEZONE:America/Chicago
BEGIN:VTIMEZONE
TZID:America/Chicago
BEGIN:STANDARD
TZNAME:CST
DTSTART:20161106T020000
TZOFFSETFROM:-0500
TZOFFSETTO:-0600
RDATE:20171105T020000
END:STANDARD
BEGIN:DAYLIGHT
TZNAME:CDT
DTSTART:20170312T020000
TZOFFSETFROM:-0600
TZOFFSETTO:-0500
RDATE:20180311T020000
END:DAYLIGHT
END:VTIMEZONE
BEGIN:VEVENT
UID:1fc1f8aa-f691-4e95-9b2b-a0458abbb916
DTSTAMP:20260422T021933Z
DESCRIPTION:Join us for our annual Spring Plant Sale. \n\nMembers-Only Sale
  Preview - Thursday\, April 27\, 4 - 7 p.m.\nAnnual Spring Plant Sale - Fr
 iday\, April 28\, 9 a.m. - 5 p.m.\nAnnual Spring Plant Sale - Saturday\, A
 pril 29\, 9 a.m. - Noon\n\nFind the perfect plants for your container or g
 arden spot! Volunteers and gardeners will be on hand to help with selectio
 ns and to give advice about placement\, care and maintenance. \n\nCustomer
 s can own 'a little bit of Aldridge Gardens' when they buy a pass-along pl
 ant that lived there! We are going to have many plants with an Aldridge Ga
 rdens heritage. In addition\, we'll also have many more from members and f
 riends of the gardens!\n\nOur main feature is always the 'Snowflake' hydra
 ngea\, but shoppers can also choose from a host of others. Shoppers will f
 ind many varieties and sizes of hydrangeas at our annual Spring Plant Sale
 ! \n\n<a href='http://aldridgegardens.com/education/events/annual_events/a
 nnual_plant_sale/featured_plants.html'>See a list of available plants here
 .</a>\n\nAnd\, remember\, members always get 10% off purchases!
DTSTART;TZID=America/Chicago:20170428T090000
DTEND;TZID=America/Chicago:20170428T170000
LOCATION:
SUMMARY:Annual Spring Plant Sale
END:VEVENT
END:VCALENDAR
