BEGIN:VCALENDAR
VERSION:2.0
PRODID:-//aldridgegardens.com//NONSGML kigkonsult.se iCalcreator 2.30.10//
CALSCALE:GREGORIAN
METHOD:PUBLISH
UID:3fe10e44-af2c-4e69-b5a6-0ac86930198b
X-WR-CALDESC:<b>Class meets on Wednesday\, May 17\, 24\, and 31. </b>\n\nTh
 is FREE class is being offered by Many Infinities\, people seeking to reli
 eve bodily stress with Tai Chi training. Based on the work by Paul Lam\, t
 he practice focuses more on mindfulness and body awareness than form. Come
  join us from 8 to 9 a.m.  We will meet at the ginkgo tree in front of the
  Aldridge house. Please wear comfortable clothing and shoes. \n\nThe Tai C
 hi for Health waiver form is available for download below. Please print it
  an bring the completed waiver with you.\n
X-WR-RELCALID:0ddc4328acdf47e5c6a9fa74e378f5c2
X-WR-TIMEZONE:America/Chicago
BEGIN:VTIMEZONE
TZID:America/Chicago
BEGIN:STANDARD
TZNAME:CST
DTSTART:20161106T020000
TZOFFSETFROM:-0500
TZOFFSETTO:-0600
RDATE:20171105T020000
RDATE:20181104T020000
END:STANDARD
BEGIN:DAYLIGHT
TZNAME:CDT
DTSTART:20170312T020000
TZOFFSETFROM:-0600
TZOFFSETTO:-0500
RDATE:20180311T020000
END:DAYLIGHT
END:VTIMEZONE
BEGIN:VEVENT
UID:1a57ffbd-9ce7-4879-b667-b0ab2254906f
DTSTAMP:20260422T002510Z
DESCRIPTION:<b>Class meets on Wednesday\, May 17\, 24\, and 31. </b>\n\nThi
 s FREE class is being offered by Many Infinities\, people seeking to relie
 ve bodily stress with Tai Chi training. Based on the work by Paul Lam\, th
 e practice focuses more on mindfulness and body awareness than form. Come 
 join us from 8 to 9 a.m.  We will meet at the ginkgo tree in front of the 
 Aldridge house. Please wear comfortable clothing and shoes. \n\nThe Tai Ch
 i for Health waiver form is available for download below. Please print it 
 an bring the completed waiver with you.\n
DTSTART;TZID=America/Chicago:20170517T080000
DTEND;TZID=America/Chicago:20170517T090000
LOCATION:
SUMMARY:Tai Chi for Health
END:VEVENT
END:VCALENDAR
