BEGIN:VCALENDAR
VERSION:2.0
PRODID:-//aldridgegardens.com//NONSGML kigkonsult.se iCalcreator 2.30.10//
CALSCALE:GREGORIAN
METHOD:PUBLISH
UID:12d86284-fd75-44f7-951d-b74f3fcf82f7
X-WR-CALDESC:\n<b>This event is now SOLD OUT!</b>\n\nHydrangeas are a major
  component of Southern gardens and the hallmark of Aldridge Gardens.  This
  hands-on workshop will teach you an easy way to propagate hydrangeas for 
 yourself.  Class fee includes a pot\, soil\, 3 hydrangea cuttings\, and ha
 nd-outs.  Class members may root up to three fresh hydrangea cuttings to t
 ake home.\n \nPlease bring a CLEAR\, empty 2 liter plastic soda bottle\, y
 our pruners\, and a pair of scissors for trimming leaves.  We’ll also lear
 n how to propagate oakleaf hydrangeas from seed and layering. Enjoy hydran
 geas you have propagated throughout your garden! \n\nInstructors: David Do
 ggett and Willie Edmiston\, Hydrangea Propagators\n\nCost: $20 Members/$25
  Non-Members. \n\nSpace: Class size is limited.\n\nDate: Saturday\, May 20
 \, 2017.   9 – 11 a.m.  (Rain Date:  Saturday\, June 3)\n\n<b>This event i
 s now SOLD OUT!</b>
X-WR-RELCALID:1796df97e164a39f447a42afa1d523bb
X-WR-TIMEZONE:America/Chicago
BEGIN:VTIMEZONE
TZID:America/Chicago
BEGIN:STANDARD
TZNAME:CST
DTSTART:20161106T020000
TZOFFSETFROM:-0500
TZOFFSETTO:-0600
RDATE:20171105T020000
RDATE:20181104T020000
END:STANDARD
BEGIN:DAYLIGHT
TZNAME:CDT
DTSTART:20170312T020000
TZOFFSETFROM:-0600
TZOFFSETTO:-0500
RDATE:20180311T020000
END:DAYLIGHT
END:VTIMEZONE
BEGIN:VEVENT
UID:20e501f5-cefb-432e-9e51-fa0d35e72846
DTSTAMP:20260422T000420Z
DESCRIPTION:\n<b>This event is now SOLD OUT!</b>\n\nHydrangeas are a major 
 component of Southern gardens and the hallmark of Aldridge Gardens.  This 
 hands-on workshop will teach you an easy way to propagate hydrangeas for y
 ourself.  Class fee includes a pot\, soil\, 3 hydrangea cuttings\, and han
 d-outs.  Class members may root up to three fresh hydrangea cuttings to ta
 ke home.\n \nPlease bring a CLEAR\, empty 2 liter plastic soda bottle\, yo
 ur pruners\, and a pair of scissors for trimming leaves.  We’ll also learn
  how to propagate oakleaf hydrangeas from seed and layering. Enjoy hydrang
 eas you have propagated throughout your garden! \n\nInstructors: David Dog
 gett and Willie Edmiston\, Hydrangea Propagators\n\nCost: $20 Members/$25 
 Non-Members. \n\nSpace: Class size is limited.\n\nDate: Saturday\, May 20\
 , 2017.   9 – 11 a.m.  (Rain Date:  Saturday\, June 3)\n\n<b>This event is
  now SOLD OUT!</b>
DTSTART;TZID=America/Chicago:20170520T090000
DTEND;TZID=America/Chicago:20170520T110000
LOCATION:Aldridge Gardens' Hydrangea Garden\, Dirr Collection
SUMMARY:Hydrangea Propagation Workshop
END:VEVENT
END:VCALENDAR
