BEGIN:VCALENDAR
VERSION:2.0
PRODID:-//aldridgegardens.com//NONSGML kigkonsult.se iCalcreator 2.30.10//
CALSCALE:GREGORIAN
METHOD:PUBLISH
UID:f0981ed4-2d6b-4efb-8ae8-100b4493fa57
X-WR-CALDESC:<b>Class meets on Wednesday\, May 31 at 8 a.m. </b>\n\nThis FR
 EE class is being offered by Many Infinities\, for people seeking to relie
 ve bodily stress with Tai Chi training. Based on the work by Paul Lam\, th
 e practice focuses more on mindfulness and body awareness than form. Come 
 join us from 8 to 9 a.m.  We will meet at the ginkgo tree in front of the 
 Aldridge house. Please wear comfortable clothing and shoes. \n\nThe Tai Ch
 i for Health waiver form is available for download below. Please print it 
 an bring the completed waiver with you.\n
X-WR-RELCALID:23fe76985709def1fac53a0a6a59f7ad
X-WR-TIMEZONE:America/Chicago
BEGIN:VTIMEZONE
TZID:America/Chicago
BEGIN:STANDARD
TZNAME:CST
DTSTART:20161106T020000
TZOFFSETFROM:-0500
TZOFFSETTO:-0600
RDATE:20171105T020000
RDATE:20181104T020000
END:STANDARD
BEGIN:DAYLIGHT
TZNAME:CDT
DTSTART:20170312T020000
TZOFFSETFROM:-0600
TZOFFSETTO:-0500
RDATE:20180311T020000
END:DAYLIGHT
END:VTIMEZONE
BEGIN:VEVENT
UID:94893baf-c7db-4b48-af4b-904678764bd4
DTSTAMP:20260422T002155Z
DESCRIPTION:<b>Class meets on Wednesday\, May 31 at 8 a.m. </b>\n\nThis FRE
 E class is being offered by Many Infinities\, for people seeking to reliev
 e bodily stress with Tai Chi training. Based on the work by Paul Lam\, the
  practice focuses more on mindfulness and body awareness than form. Come j
 oin us from 8 to 9 a.m.  We will meet at the ginkgo tree in front of the A
 ldridge house. Please wear comfortable clothing and shoes. \n\nThe Tai Chi
  for Health waiver form is available for download below. Please print it a
 n bring the completed waiver with you.\n
DTSTART;TZID=America/Chicago:20170531T080000
DTEND;TZID=America/Chicago:20170531T090000
LOCATION:
SUMMARY:Tai Chi for Health
END:VEVENT
END:VCALENDAR
