BEGIN:VCALENDAR
VERSION:2.0
PRODID:-//aldridgegardens.com//NONSGML kigkonsult.se iCalcreator 2.30.10//
CALSCALE:GREGORIAN
METHOD:PUBLISH
UID:c24859d4-aa74-4411-93a2-c584124c32dd
X-WR-CALDESC:June 5 - 9\nEntering Grades 5k – 3\n\nIt’s time for summer! Gi
 rls\, are you ready for some fun? Bring your doll to camp at Aldridge Gard
 ens. (May also include My Life or Our Generation Dolls.) You and your doll
  will explore the magic of the Gardens\, you’ll make all kinds of accessor
 ies and crafts for you and your dolls\, and even have a tea party!  Join u
 s as we make new friends and great memories!\n\nInstructor: Casey Johnson\
 , BA Elementary Education
X-WR-RELCALID:b5b0a32fe8a358a7352cf04d54af40e3
X-WR-TIMEZONE:America/Chicago
BEGIN:VTIMEZONE
TZID:America/Chicago
BEGIN:STANDARD
TZNAME:CST
DTSTART:20161106T020000
TZOFFSETFROM:-0500
TZOFFSETTO:-0600
RDATE:20171105T020000
RDATE:20181104T020000
END:STANDARD
BEGIN:DAYLIGHT
TZNAME:CDT
DTSTART:20170312T020000
TZOFFSETFROM:-0600
TZOFFSETTO:-0500
RDATE:20180311T020000
END:DAYLIGHT
END:VTIMEZONE
BEGIN:VEVENT
UID:9882b11d-2012-4ab9-9be7-12e0477d3e32
DTSTAMP:20260421T225803Z
DESCRIPTION:June 5 - 9\nEntering Grades 5k – 3\n\nIt’s time for summer! Gir
 ls\, are you ready for some fun? Bring your doll to camp at Aldridge Garde
 ns. (May also include My Life or Our Generation Dolls.) You and your doll 
 will explore the magic of the Gardens\, you’ll make all kinds of accessori
 es and crafts for you and your dolls\, and even have a tea party!  Join us
  as we make new friends and great memories!\n\nInstructor: Casey Johnson\,
  BA Elementary Education
DTSTART;TZID=America/Chicago:20170605T090000
DTEND;TZID=America/Chicago:20170605T120000
LOCATION:
SUMMARY:Summer Camp: American Girls Grades 5k-3rd
END:VEVENT
END:VCALENDAR
