BEGIN:VCALENDAR
VERSION:2.0
PRODID:-//aldridgegardens.com//NONSGML kigkonsult.se iCalcreator 2.30.10//
CALSCALE:GREGORIAN
METHOD:PUBLISH
UID:acafa1bc-5899-4c35-beb4-b9ecdd174ed0
X-WR-CALDESC:June 5 - 9\nEntering Grades 4 – 5\n\nCool Art in the Gardens: 
 Looking at the World differently!\n\nInstructor: Erika Patterson\, BA Publ
 ic Relations\, BA Art Studio\, MA Art Education\n\nStudents will be involv
 ed in projects that connect art and nature. The beautiful landscape of the
  gardens will provide an outdoor art studio where children can let their c
 reativity grow. Students will practice a wide variety of art techniques\, 
 from watercolor painting to sculpture and leaf pounding. Our week will be 
 filled with creativity\, new friends\, and moments of age appropriate insp
 iration that will delight a young artist. \n
X-WR-RELCALID:6f6f7bd3c1c18ef64a61ab82056b3ebf
X-WR-TIMEZONE:America/Chicago
BEGIN:VTIMEZONE
TZID:America/Chicago
BEGIN:STANDARD
TZNAME:CST
DTSTART:20161106T020000
TZOFFSETFROM:-0500
TZOFFSETTO:-0600
RDATE:20171105T020000
RDATE:20181104T020000
END:STANDARD
BEGIN:DAYLIGHT
TZNAME:CDT
DTSTART:20170312T020000
TZOFFSETFROM:-0600
TZOFFSETTO:-0500
RDATE:20180311T020000
END:DAYLIGHT
END:VTIMEZONE
BEGIN:VEVENT
UID:3d7b7682-2ca4-402a-85e3-8baddceaf8a7
DTSTAMP:20260421T225758Z
DESCRIPTION:June 5 - 9\nEntering Grades 4 – 5\n\nCool Art in the Gardens: L
 ooking at the World differently!\n\nInstructor: Erika Patterson\, BA Publi
 c Relations\, BA Art Studio\, MA Art Education\n\nStudents will be involve
 d in projects that connect art and nature. The beautiful landscape of the 
 gardens will provide an outdoor art studio where children can let their cr
 eativity grow. Students will practice a wide variety of art techniques\, f
 rom watercolor painting to sculpture and leaf pounding. Our week will be f
 illed with creativity\, new friends\, and moments of age appropriate inspi
 ration that will delight a young artist. \n
DTSTART;TZID=America/Chicago:20170605T090000
DTEND;TZID=America/Chicago:20170605T120000
LOCATION:
SUMMARY:Summer Camp: Cool Art in the Gardens Grades 4th-5th
END:VEVENT
END:VCALENDAR
