BEGIN:VCALENDAR
VERSION:2.0
PRODID:-//aldridgegardens.com//NONSGML kigkonsult.se iCalcreator 2.30.10//
CALSCALE:GREGORIAN
METHOD:PUBLISH
UID:5311d992-2549-47d1-a8c8-502baa2ebf74
X-WR-CALDESC:June 5 - 9\nEntering Grades 4 – 5\n\nPaper Circuitry: Light up
  your life!\n\nInstructor: Julie Altmark\, Elementary Education\, MA Gifte
 d/Talented\n\nStudents will make simple or complex electrical circuits on 
 a flat piece of paper! Copper tape and surface-mount LEDs will allow them 
 to make a fully functional circuit on a flat surface\, like a piece of pap
 er. The possibilities of paper circuitry include light-up greeting cards a
 nd three-dimensional pop-up paper sculpture that have working lights in th
 em.\n
X-WR-RELCALID:4f19ced731553151401b5c9941499530
X-WR-TIMEZONE:America/Chicago
BEGIN:VTIMEZONE
TZID:America/Chicago
BEGIN:STANDARD
TZNAME:CST
DTSTART:20161106T020000
TZOFFSETFROM:-0500
TZOFFSETTO:-0600
RDATE:20171105T020000
RDATE:20181104T020000
END:STANDARD
BEGIN:DAYLIGHT
TZNAME:CDT
DTSTART:20170312T020000
TZOFFSETFROM:-0600
TZOFFSETTO:-0500
RDATE:20180311T020000
END:DAYLIGHT
END:VTIMEZONE
BEGIN:VEVENT
UID:32fcd8ac-3400-4225-81cd-60853093bc5a
DTSTAMP:20260420T190354Z
DESCRIPTION:June 5 - 9\nEntering Grades 4 – 5\n\nPaper Circuitry: Light up 
 your life!\n\nInstructor: Julie Altmark\, Elementary Education\, MA Gifted
 /Talented\n\nStudents will make simple or complex electrical circuits on a
  flat piece of paper! Copper tape and surface-mount LEDs will allow them t
 o make a fully functional circuit on a flat surface\, like a piece of pape
 r. The possibilities of paper circuitry include light-up greeting cards an
 d three-dimensional pop-up paper sculpture that have working lights in the
 m.\n
DTSTART;TZID=America/Chicago:20170605T090000
DTEND;TZID=America/Chicago:20170605T120000
LOCATION:
SUMMARY:Summer Camp: Paper Circuitry Grades 4th-5th
END:VEVENT
END:VCALENDAR
