BEGIN:VCALENDAR
VERSION:2.0
PRODID:-//aldridgegardens.com//NONSGML kigkonsult.se iCalcreator 2.30.10//
CALSCALE:GREGORIAN
METHOD:PUBLISH
UID:3af9f29d-edeb-4d41-aac3-3c99d926bd72
X-WR-CALDESC:<b>Summer Camps for the week of June 5 - 9</b>\n\nAmerican Gir
 ls in Aldridge Gardens Entering Grades 5K – 3\nCool Art in the Gardens: Lo
 oking at the World differently! Grades 4 – 5 \nPaper Circuitry: Light up y
 our life! Grades 4 – 5\n
X-WR-RELCALID:292afa20cd12090a7b8a580e0b520cf0
X-WR-TIMEZONE:America/Chicago
BEGIN:VTIMEZONE
TZID:America/Chicago
BEGIN:STANDARD
TZNAME:CST
DTSTART:20161106T020000
TZOFFSETFROM:-0500
TZOFFSETTO:-0600
RDATE:20171105T020000
RDATE:20181104T020000
END:STANDARD
BEGIN:DAYLIGHT
TZNAME:CDT
DTSTART:20170312T020000
TZOFFSETFROM:-0600
TZOFFSETTO:-0500
RDATE:20180311T020000
END:DAYLIGHT
END:VTIMEZONE
BEGIN:VEVENT
UID:7c3eb3aa-72f5-4de6-b607-f823798a0c9b
DTSTAMP:20260421T224248Z
DESCRIPTION:<b>Summer Camps for the week of June 5 - 9</b>\n\nAmerican Girl
 s in Aldridge Gardens Entering Grades 5K – 3\nCool Art in the Gardens: Loo
 king at the World differently! Grades 4 – 5 \nPaper Circuitry: Light up yo
 ur life! Grades 4 – 5\n
DTSTART;TZID=America/Chicago:20170607T090000
DTEND;TZID=America/Chicago:20170607T120000
LOCATION:
SUMMARY:Summer Camps
END:VEVENT
END:VCALENDAR
