BEGIN:VCALENDAR
VERSION:2.0
PRODID:-//aldridgegardens.com//NONSGML kigkonsult.se iCalcreator 2.30.10//
CALSCALE:GREGORIAN
METHOD:PUBLISH
UID:e8b858a4-1cb1-47cd-b728-6f6d75ca05da
X-WR-CALDESC:<b>Summer Camps for the week of June 5 - 9</b>\n\nAmerican Gir
 ls in Aldridge Gardens Entering Grades 5K – 3\nCool Art in the Gardens: Lo
 oking at the World differently! Grades 4 – 5 \nPaper Circuitry: Light up y
 our life! Grades 4 – 5\n
X-WR-RELCALID:73a87f8c6e667d6fb27bfaf60b280465
X-WR-TIMEZONE:America/Chicago
BEGIN:VTIMEZONE
TZID:America/Chicago
BEGIN:STANDARD
TZNAME:CST
DTSTART:20161106T020000
TZOFFSETFROM:-0500
TZOFFSETTO:-0600
RDATE:20171105T020000
RDATE:20181104T020000
END:STANDARD
BEGIN:DAYLIGHT
TZNAME:CDT
DTSTART:20170312T020000
TZOFFSETFROM:-0600
TZOFFSETTO:-0500
RDATE:20180311T020000
END:DAYLIGHT
END:VTIMEZONE
BEGIN:VEVENT
UID:f9ff0eff-c098-4ee8-bc40-278dd4eaf5db
DTSTAMP:20260421T224303Z
DESCRIPTION:<b>Summer Camps for the week of June 5 - 9</b>\n\nAmerican Girl
 s in Aldridge Gardens Entering Grades 5K – 3\nCool Art in the Gardens: Loo
 king at the World differently! Grades 4 – 5 \nPaper Circuitry: Light up yo
 ur life! Grades 4 – 5\n
DTSTART;TZID=America/Chicago:20170608T090000
DTEND;TZID=America/Chicago:20170608T120000
LOCATION:
SUMMARY:Summer Camps
END:VEVENT
END:VCALENDAR
