BEGIN:VCALENDAR
VERSION:2.0
PRODID:-//aldridgegardens.com//NONSGML kigkonsult.se iCalcreator 2.30.10//
CALSCALE:GREGORIAN
METHOD:PUBLISH
UID:08ea7901-451c-468f-9ce2-1cd1c3a274b4
X-WR-CALDESC:<b>Summer Camps for the week of June 5 - 9</b>\n\nAmerican Gir
 ls in Aldridge Gardens Entering Grades 5K – 3\nCool Art in the Gardens: Lo
 oking at the World differently! Grades 4 – 5 \nPaper Circuitry: Light up y
 our life! Grades 4 – 5\n
X-WR-RELCALID:7b4195f041bcbd256e110f4e440218d0
X-WR-TIMEZONE:America/Chicago
BEGIN:VTIMEZONE
TZID:America/Chicago
BEGIN:STANDARD
TZNAME:CST
DTSTART:20161106T020000
TZOFFSETFROM:-0500
TZOFFSETTO:-0600
RDATE:20171105T020000
RDATE:20181104T020000
END:STANDARD
BEGIN:DAYLIGHT
TZNAME:CDT
DTSTART:20170312T020000
TZOFFSETFROM:-0600
TZOFFSETTO:-0500
RDATE:20180311T020000
END:DAYLIGHT
END:VTIMEZONE
BEGIN:VEVENT
UID:0ac5fdf5-8651-4526-945f-9f7e3c6617a1
DTSTAMP:20260421T224222Z
DESCRIPTION:<b>Summer Camps for the week of June 5 - 9</b>\n\nAmerican Girl
 s in Aldridge Gardens Entering Grades 5K – 3\nCool Art in the Gardens: Loo
 king at the World differently! Grades 4 – 5 \nPaper Circuitry: Light up yo
 ur life! Grades 4 – 5\n
DTSTART;TZID=America/Chicago:20170609T090000
DTEND;TZID=America/Chicago:20170609T120000
LOCATION:
SUMMARY:Summer Camps
END:VEVENT
END:VCALENDAR
