BEGIN:VCALENDAR
VERSION:2.0
PRODID:-//aldridgegardens.com//NONSGML kigkonsult.se iCalcreator 2.30.10//
CALSCALE:GREGORIAN
METHOD:PUBLISH
UID:5ddd4d62-99d4-4b02-af7a-61402b6cff45
X-WR-CALDESC:<b>HYDRANGEAS UNDER THE STARS 2017 - SOLD OUT!</b>\n\nJoin us 
 for Hoover's social event of the year under the stars! Make plans now to b
 e a part of our premier annual fundraiser and garden gala. Enjoy a special
  evening of great food\, entertainment\, and silent and live auctions all 
 to benefit Aldridge Gardens. \n\nReception and silent auction begin at 6:0
 0.\nDinner and live auction begin at 7:00.\n\nDonations obtained throughou
 t the year and through events like Hydrangeas Under the Stars help our Gar
 dens grow. Your support allows us to continue to provide a unique garden e
 xperience by offering exceptional venues for weddings\, parties and social
  and corporate events\, serving as a source for educational field trips\, 
 programs and camps for thousands of children each year\, and being a tranq
 uil destination perfect for walking\, bird watching\, reflection and so mu
 ch more. \n\n<b>Individual tickets and tables are sold out!</b> \n\nTake a
  look at our tickets and sponsorship packages in the related links section
  below our contact information. Or call us for auction item donations\, sp
 onsorship opportunities\, and to find out how you can be part of this terr
 ific night of fun and fundraising! \n\nTo get a better idea of the event\,
  see our recap of one of our past <a href='http://aldridgegardens.com/educ
 ation/events/annual_events/hydrangeas-under-the-stars.html'>Hydrangeas Und
 er the Stars</a> events! \n
X-WR-RELCALID:8d73e9827f6837b30408044d2d84ec4f
X-WR-TIMEZONE:America/Chicago
BEGIN:VTIMEZONE
TZID:America/Chicago
BEGIN:STANDARD
TZNAME:CST
DTSTART:20161106T020000
TZOFFSETFROM:-0500
TZOFFSETTO:-0600
RDATE:20171105T020000
RDATE:20181104T020000
END:STANDARD
BEGIN:DAYLIGHT
TZNAME:CDT
DTSTART:20170312T020000
TZOFFSETFROM:-0600
TZOFFSETTO:-0500
RDATE:20180311T020000
END:DAYLIGHT
END:VTIMEZONE
BEGIN:VEVENT
UID:749d67f8-2ac0-48b2-985e-bf67d4e6f9d9
DTSTAMP:20260421T224042Z
DESCRIPTION:<b>HYDRANGEAS UNDER THE STARS 2017 - SOLD OUT!</b>\n\nJoin us f
 or Hoover's social event of the year under the stars! Make plans now to be
  a part of our premier annual fundraiser and garden gala. Enjoy a special 
 evening of great food\, entertainment\, and silent and live auctions all t
 o benefit Aldridge Gardens. \n\nReception and silent auction begin at 6:00
 .\nDinner and live auction begin at 7:00.\n\nDonations obtained throughout
  the year and through events like Hydrangeas Under the Stars help our Gard
 ens grow. Your support allows us to continue to provide a unique garden ex
 perience by offering exceptional venues for weddings\, parties and social 
 and corporate events\, serving as a source for educational field trips\, p
 rograms and camps for thousands of children each year\, and being a tranqu
 il destination perfect for walking\, bird watching\, reflection and so muc
 h more. \n\n<b>Individual tickets and tables are sold out!</b> \n\nTake a 
 look at our tickets and sponsorship packages in the related links section 
 below our contact information. Or call us for auction item donations\, spo
 nsorship opportunities\, and to find out how you can be part of this terri
 fic night of fun and fundraising! \n\nTo get a better idea of the event\, 
 see our recap of one of our past <a href='http://aldridgegardens.com/educa
 tion/events/annual_events/hydrangeas-under-the-stars.html'>Hydrangeas Unde
 r the Stars</a> events! \n
DTSTART;TZID=America/Chicago:20170610T180000
DTEND;TZID=America/Chicago:20170610T210000
LOCATION:
SUMMARY:Hydrangeas Under the Stars
END:VEVENT
END:VCALENDAR
