BEGIN:VCALENDAR
VERSION:2.0
PRODID:-//aldridgegardens.com//NONSGML kigkonsult.se iCalcreator 2.30.10//
CALSCALE:GREGORIAN
METHOD:PUBLISH
UID:9b8dcc39-b5bc-4f69-982d-ac48a53166f0
X-WR-CALDESC:Amy Peterson creates incredible paintings of everything from A
 labama landscapes and Birmingham city scenes to floral still life works\, 
 historic interiors\, and plein air studies. \n\nHer impressionistic oil pa
 intings have won awards at the Bluff Park Art Association\, the Gadsden Mu
 seum of Art\, and the Alabama Plein Air Artists' Juried Show. In 2016\, he
 r work reached the national arena through acceptance into the Oil Painters
  of America Salon Exhibition. In 2017\, her work is featured in Art Galler
 ies and Artists of the South.\n\nHere's what she has to say about her work
 :\n'I paint from my own life experience\, and literally from life as much 
 as possible\, whether that means setting up my easel in the countryside\, 
 or in a dining room\, in a garden\, or on a city block.'\n\nJoin us on the
  12th to hear more\, directly from Amy herself.\n
X-WR-RELCALID:f92be5763508d45660348e363e7ceaa1
X-WR-TIMEZONE:America/Chicago
BEGIN:VTIMEZONE
TZID:America/Chicago
BEGIN:STANDARD
TZNAME:CST
DTSTART:20161106T020000
TZOFFSETFROM:-0500
TZOFFSETTO:-0600
RDATE:20171105T020000
RDATE:20181104T020000
END:STANDARD
BEGIN:DAYLIGHT
TZNAME:CDT
DTSTART:20170312T020000
TZOFFSETFROM:-0600
TZOFFSETTO:-0500
RDATE:20180311T020000
END:DAYLIGHT
END:VTIMEZONE
BEGIN:VEVENT
UID:24a29eea-9b4a-44df-bb57-f4759ab18d2c
DTSTAMP:20260421T230324Z
DESCRIPTION:Amy Peterson creates incredible paintings of everything from Al
 abama landscapes and Birmingham city scenes to floral still life works\, h
 istoric interiors\, and plein air studies. \n\nHer impressionistic oil pai
 ntings have won awards at the Bluff Park Art Association\, the Gadsden Mus
 eum of Art\, and the Alabama Plein Air Artists' Juried Show. In 2016\, her
  work reached the national arena through acceptance into the Oil Painters 
 of America Salon Exhibition. In 2017\, her work is featured in Art Galleri
 es and Artists of the South.\n\nHere's what she has to say about her work:
 \n'I paint from my own life experience\, and literally from life as much a
 s possible\, whether that means setting up my easel in the countryside\, o
 r in a dining room\, in a garden\, or on a city block.'\n\nJoin us on the 
 12th to hear more\, directly from Amy herself.\n
DTSTART;TZID=America/Chicago:20170612T180000
DTEND;TZID=America/Chicago:20170612T190000
LOCATION:Eddie and Kay Aldridge Arts and Historical Collections Museum
SUMMARY:Meet the Artist Reception - Amy R. Peterson
END:VEVENT
END:VCALENDAR
