BEGIN:VCALENDAR
VERSION:2.0
PRODID:-//aldridgegardens.com//NONSGML kigkonsult.se iCalcreator 2.30.10//
CALSCALE:GREGORIAN
METHOD:PUBLISH
UID:571d7a38-c105-4cf3-9b77-42cbe6e25517
X-WR-CALDESC:Propagator level members will enjoy their monthly wine recepti
 on while mixing and mingling with the artist. Amy Peterson creates incredi
 ble paintings of everything from Alabama landscapes and Birmingham city sc
 enes to floral still life works\, historic interiors\, and plein air studi
 es. \n\nHer impressionistic oil paintings have won awards at the Bluff Par
 k Art Association\, the Gadsden Museum of Art\, and the Alabama Plein Air 
 Artists' Juried Show. In 2016\, her work reached the national arena throug
 h acceptance into the Oil Painters of America Salon Exhibition. In 2017\, 
 her work is featured in Art Galleries and Artists of the South.\n\nHere's 
 what she has to say about her work:\n'I paint from my own life experience\
 , and literally from life as much as possible\, whether that means setting
  up my easel in the countryside\, or in a dining room\, in a garden\, or o
 n a city block.'\n\nJoin us on the 12th to hear more\, directly from Amy h
 erself.\n\nThis propagator member event will roll into the general artist 
 reception beginning at 6 p.m. \n
X-WR-RELCALID:63317be7ef5d4c2256b51296c3c5e65e
X-WR-TIMEZONE:America/Chicago
BEGIN:VTIMEZONE
TZID:America/Chicago
BEGIN:STANDARD
TZNAME:CST
DTSTART:20161106T020000
TZOFFSETFROM:-0500
TZOFFSETTO:-0600
RDATE:20171105T020000
RDATE:20181104T020000
END:STANDARD
BEGIN:DAYLIGHT
TZNAME:CDT
DTSTART:20170312T020000
TZOFFSETFROM:-0600
TZOFFSETTO:-0500
RDATE:20180311T020000
END:DAYLIGHT
END:VTIMEZONE
BEGIN:VEVENT
UID:9d214ae7-0c23-45e7-8e39-0f016d6496a6
DTSTAMP:20260421T225641Z
DESCRIPTION:Propagator level members will enjoy their monthly wine receptio
 n while mixing and mingling with the artist. Amy Peterson creates incredib
 le paintings of everything from Alabama landscapes and Birmingham city sce
 nes to floral still life works\, historic interiors\, and plein air studie
 s. \n\nHer impressionistic oil paintings have won awards at the Bluff Park
  Art Association\, the Gadsden Museum of Art\, and the Alabama Plein Air A
 rtists' Juried Show. In 2016\, her work reached the national arena through
  acceptance into the Oil Painters of America Salon Exhibition. In 2017\, h
 er work is featured in Art Galleries and Artists of the South.\n\nHere's w
 hat she has to say about her work:\n'I paint from my own life experience\,
  and literally from life as much as possible\, whether that means setting 
 up my easel in the countryside\, or in a dining room\, in a garden\, or on
  a city block.'\n\nJoin us on the 12th to hear more\, directly from Amy he
 rself.\n\nThis propagator member event will roll into the general artist r
 eception beginning at 6 p.m. \n
DTSTART;TZID=America/Chicago:20170612T170000
DTEND;TZID=America/Chicago:20170612T180000
LOCATION:Eddie and Kay Aldridge Arts and Historical Collections Museum
SUMMARY:Propagator Wine Reception - Artist Amy R. Peterson
END:VEVENT
END:VCALENDAR
