BEGIN:VCALENDAR
VERSION:2.0
PRODID:-//aldridgegardens.com//NONSGML kigkonsult.se iCalcreator 2.30.10//
CALSCALE:GREGORIAN
METHOD:PUBLISH
UID:8f7f50c6-5281-42dc-aedc-33c7ebdef6c3
X-WR-CALDESC:June 12 - 16\nEntering Grades 5k – 3\n\nIt’s time for summer! 
 Girls\, are you ready for some fun? Bring your doll to camp at Aldridge Ga
 rdens. (May also include My Life or Our Generation Dolls.) You and your do
 ll will explore the magic of the Gardens\, you’ll make all kinds of access
 ories and crafts for you and your dolls\, and even have a tea party!  Join
  us as we make new friends and great memories!\n\nInstructor: Nancy McGowa
 n\, MA Gifted/Talented\, EdS Technology\, NBCT
X-WR-RELCALID:b64e20b12246bccff420509a5872bbfa
X-WR-TIMEZONE:America/Chicago
BEGIN:VTIMEZONE
TZID:America/Chicago
BEGIN:STANDARD
TZNAME:CST
DTSTART:20161106T020000
TZOFFSETFROM:-0500
TZOFFSETTO:-0600
RDATE:20171105T020000
RDATE:20181104T020000
END:STANDARD
BEGIN:DAYLIGHT
TZNAME:CDT
DTSTART:20170312T020000
TZOFFSETFROM:-0600
TZOFFSETTO:-0500
RDATE:20180311T020000
END:DAYLIGHT
END:VTIMEZONE
BEGIN:VEVENT
UID:c1f707ad-d141-4b0e-9f2c-110cb3bcf2ee
DTSTAMP:20260421T225707Z
DESCRIPTION:June 12 - 16\nEntering Grades 5k – 3\n\nIt’s time for summer! G
 irls\, are you ready for some fun? Bring your doll to camp at Aldridge Gar
 dens. (May also include My Life or Our Generation Dolls.) You and your dol
 l will explore the magic of the Gardens\, you’ll make all kinds of accesso
 ries and crafts for you and your dolls\, and even have a tea party!  Join 
 us as we make new friends and great memories!\n\nInstructor: Nancy McGowan
 \, MA Gifted/Talented\, EdS Technology\, NBCT
DTSTART;TZID=America/Chicago:20170612T090000
DTEND;TZID=America/Chicago:20170612T120000
LOCATION:
SUMMARY:Summer Camp: American Girls Grades 5k-3rd
END:VEVENT
END:VCALENDAR
