BEGIN:VCALENDAR
VERSION:2.0
PRODID:-//aldridgegardens.com//NONSGML kigkonsult.se iCalcreator 2.30.10//
CALSCALE:GREGORIAN
METHOD:PUBLISH
UID:36876e83-c774-4668-924e-c18fff4c8b83
X-WR-CALDESC:June 12 - 16\nEntering Grades 5k – 2\n\nEngineering FUNdamenta
 ls: Create\, Construct\, Connect!\n\nInstructor: Christina Tomlin\, B.S. E
 lementary Education\, M.S. Library Science\n\nDo you like to design and bu
 ild things?  This camp is perfect for kids who like to know how and why th
 ings work.  We will create and construct fun yet educational projects!
X-WR-RELCALID:142d3c0bb61187be326b6743591eb5f1
X-WR-TIMEZONE:America/Chicago
BEGIN:VTIMEZONE
TZID:America/Chicago
BEGIN:STANDARD
TZNAME:CST
DTSTART:20161106T020000
TZOFFSETFROM:-0500
TZOFFSETTO:-0600
RDATE:20171105T020000
RDATE:20181104T020000
END:STANDARD
BEGIN:DAYLIGHT
TZNAME:CDT
DTSTART:20170312T020000
TZOFFSETFROM:-0600
TZOFFSETTO:-0500
RDATE:20180311T020000
END:DAYLIGHT
END:VTIMEZONE
BEGIN:VEVENT
UID:3a9062a0-3eba-4aba-806f-55b8f7fe1f06
DTSTAMP:20260421T225357Z
DESCRIPTION:June 12 - 16\nEntering Grades 5k – 2\n\nEngineering FUNdamental
 s: Create\, Construct\, Connect!\n\nInstructor: Christina Tomlin\, B.S. El
 ementary Education\, M.S. Library Science\n\nDo you like to design and bui
 ld things?  This camp is perfect for kids who like to know how and why thi
 ngs work.  We will create and construct fun yet educational projects!
DTSTART;TZID=America/Chicago:20170612T090000
DTEND;TZID=America/Chicago:20170612T120000
LOCATION:
SUMMARY:Summer Camp: Engineering FUNdamentals Grades 5k-2nd
END:VEVENT
END:VCALENDAR
